BEGIN:VCALENDAR
VERSION:2.0
PRODID:-//wp-events-plugin.com//7.2.3.1//EN
TZID:Europe/Berlin
X-WR-TIMEZONE:Europe/Berlin
BEGIN:VEVENT
UID:14233@rauszeit-termine.org
DTSTART;TZID=Europe/Berlin:20250128T150000
DTEND;TZID=Europe/Berlin:20250128T200000
DTSTAMP:20250125T090301Z
URL:https://rauszeit-termine.org/events/solarpunk-lounge-repair-cafe-fuer-
 kleidungfahrrad-und-mehr-fermentier-station-energie-autonomie-und-mehr/
SUMMARY:Solarpunk-Lounge: repair-café für kleidung\, fahrrad und mehr\, f
 ermentier-station\, energie-autonomie und mehr
DESCRIPTION:erste solarpunk-lounge im neuen ruine hq\n\nwir reparieren unse
 re Kleidung\, Fahrräder und mehr\,\nfermentieren gemüse\, machen Kombuch
 a\, fragen uns was es\nmit der 2000W-Gesellschaft auf sich hat\, versuchen
 \ningwer anzubauen\, tauschen uns zu energie\, rezepten\,\nselbst-organisa
 tion und mehr aus\nkommt gerne einfach vorbei -\n\nund bringt gerne alles 
 mit was ihr machen\nmögt (zb. zu fermentierendes gemüse\, zu flickende\n
 kleidung\, fahrräder\, ...) - wir haben aber auch viel da\n\nruinehq.org
CATEGORIES:Café,Infoveranstaltung,Sonstiges,Workshop
LOCATION:ruine hq\, Selmastr.4\, Hannover\, 30451\, Bahamas
X-APPLE-STRUCTURED-LOCATION;VALUE=URI;X-ADDRESS=Selmastr.4\, Hannover\, 304
 51\, Bahamas;X-APPLE-RADIUS=100;X-TITLE=ruine hq:geo:0,0
END:VEVENT
BEGIN:VTIMEZONE
TZID:Europe/Berlin
X-LIC-LOCATION:Europe/Berlin
BEGIN:STANDARD
DTSTART:20241027T020000
TZOFFSETFROM:+0200
TZOFFSETTO:+0100
TZNAME:CET
END:STANDARD
END:VTIMEZONE
END:VCALENDAR