BEGIN:VCALENDAR
VERSION:2.0
PRODID:-//wp-events-plugin.com//7.2.3.1//EN
TZID:Europe/Berlin
X-WR-TIMEZONE:Europe/Berlin
BEGIN:VEVENT
UID:14177@rauszeit-termine.org
DTSTART;TZID=Europe/Berlin:20250205T190000
DTEND;TZID=Europe/Berlin:20250205T190000
DTSTAMP:20250114T082957Z
URL:https://rauszeit-termine.org/events/soehne-grossziehen-als-feministin-
 ein-streitgespraech-mit-mir-selbst/
SUMMARY:Söhne großziehen als Feministin - Ein Streitgespräch mit mir sel
 bst
DESCRIPTION:Als Mutter zweier Söhne überprüft Shila Behjat ihren Femin
 ismus – und erläutert die großen systemischen Fragen anhand alltäglic
 her Erfahrungen. Persönlich und provokant: eine Auseinandersetzung mit de
 n Debatten um toxische Männlichkeit und Identität.\n\nIhren Feminismus h
 at Shila Behjat durch unzählige Erfahrungen erlernt und sie kämpft für
  eine Welt\, in der Männer nicht länger das Maß aller Dinge sind. Nun i
 st sie Mutter zweier Söhne – die im Alltag so manches Rollenmuster ins 
 Wanken bringen. Persönlich und ungemein berührend erzählt Behjat anhan
 d ganz alltäglicher Situationen\, wie das Leben mit zwei heranwachsenden 
 Jungs ihre feministische Haltung verändert hat – und verortet ihre Erfa
 hrungen und Gedanken in den Debatten unserer Zeit. Auf diese Weise stellt 
 sie sich lange vernachlässigten Fragen der Gleichberechtigung\, die nicht
  nur Eltern\, sondern die Gesellschaft als Ganze angehen.\n\nEin konstrukt
 ives\, selbstkritisches und sehr bewegendes Debüt\, das zeigt: Es ist Ze
 it für ein Streitgespräch – mit uns selbst.\n\nShila Behjat\, 1982 ge
 boren\, ist Journalistin und Publizistin mit deutsch-iranischen Wurzeln. S
 ie studierte Jura in Hamburg und Paris\, war Korrespondentin in London\, l
 ebte als freie Journalistin in Indien und berichtete für das Frauenporta
 l Aufeminin.com über Gleichstellung in der EU. Als Kulturredakteurin bei
  ARTE verantwortet sie nun Dokumentationen und neue Formate und war im Red
 aktionskollektiv mit Tracks East für den Deutschen Fernsehpreis nominier
 t. Mit ihrer Familie lebt sie in Berlin.\n\nEs moderiert Ruby S. Zeugs.
ATTACH;FMTTYPE=image/jpeg:https://rauszeit-termine.org/wp-content/uploads/
 2025/01/s.bejat_.jpg
CATEGORIES:Lesung/Buchvorstellung
LOCATION:Kulturzentrum Faust\, Zur Bettfedernfabrik 3\, Hannover\, Deutschl
 and
X-APPLE-STRUCTURED-LOCATION;VALUE=URI;X-ADDRESS=Zur Bettfedernfabrik 3\, Ha
 nnover\, Deutschland;X-APPLE-RADIUS=100;X-TITLE=Kulturzentrum Faust:geo:0,
 0
END:VEVENT
BEGIN:VTIMEZONE
TZID:Europe/Berlin
X-LIC-LOCATION:Europe/Berlin
BEGIN:STANDARD
DTSTART:20241027T020000
TZOFFSETFROM:+0200
TZOFFSETTO:+0100
TZNAME:CET
END:STANDARD
END:VTIMEZONE
END:VCALENDAR