BEGIN:VCALENDAR
VERSION:2.0
PRODID:-//wp-events-plugin.com//7.2.3.1//EN
TZID:Europe/Berlin
X-WR-TIMEZONE:Europe/Berlin
BEGIN:VEVENT
UID:6830@rauszeit-termine.org
DTSTART:20200813T160000Z
DTEND:20200813T180000Z
DTSTAMP:20200701T073638Z
URL:https://rauszeit-termine.org/events/sexuelle-gesundheit-von-trans-pers
 onen/
SUMMARY:Sexuelle Gesundheit von trans Personen
DESCRIPTION:Trans Personen nehmen sicherlich Medikamente wie jede x-beliebi
 ge andere Person ein und bekommen bei einem gebrochenen Bein einen Gips. D
 ie Realität zeigt jedoch\, dass trans Menschen auf der einen Seite auf gr
 ößere gesundheitliche Risiken treffen\, als cis Personen und auf der and
 eren Seite viele Hürden zu überwinden haben\, um medizinische Versorgung
  zu erlangen. Sei es grenzüberschreitende Neugierde von Mediziner_innen\,
  die transfeindliche Sprechstundenhilfe oder eben einfach auch der Mangel 
 Wissen über Körper von transgeschlechtlichen Menschen generell. All das 
 kann dazu führen\, dass benötigte Hilfe häufig nicht erhalten oder gar 
 überhaupt nicht in Anspruch genommen wird. Besonders im Bezug auf die sex
 uelle Gesundheit von trans Personen gibt es im deutschen Gesundheitssystem
  deutliche Lücken und Nachholbedarf.\n\nDieser virtuelle Vortrag thematis
 iert genau diese Fragen und informiert über gesteigerten Risiken\, auf we
 lche Hürden trans Personen im medizinischen Bereich treffen können und w
 ie sie diese überwinden. Gemeinsam diskutieren wir im Anschluss an den Vo
 rtrag weitere Aspekte\, wie sich trans Personen aktiv um ihre sexuelle Ges
 undheit kümmern können.\n\n 	Referent*in: Max Nicolai Appenroth (ist Do
 ktorand am Institut für Public Health der Charité Universitätsmedizin B
 erlin und einer der Herausgeber_innen des Sammelbandes "Trans &amp\; Care 
 – Trans Personen zwischen Selbstsorge\, Fürsorge und Versorgung".)\n 	A
 nmeldung: tin [at] q-nn [dot] de (Nach der Anmeldung erhälst du die Zug
 angsdaten und eine kurze Anleitung zur verwendeten Technik)\n 	Der Worksho
 p findet in deutscher Lautsprache statt und ist offen für alle FLINTA`s\n
  	Teilnahme kostenfrei\, gefördert aus Mitteln des Landes Niedersachsen.\
 n 	Eine Veranstaltung von TiN in Kooperation mit MOSAIK Gesundheit\n
CATEGORIES:FLT*I*Q* Only,Vortrag
END:VEVENT
END:VCALENDAR