BEGIN:VCALENDAR
VERSION:2.0
PRODID:-//wp-events-plugin.com//7.2.3.1//EN
TZID:Europe/Berlin
X-WR-TIMEZONE:Europe/Berlin
BEGIN:VEVENT
UID:6746@rauszeit-termine.org
DTSTART:20200421T170000Z
DTEND:20200421T193000Z
DTSTAMP:20200312T131743Z
URL:https://rauszeit-termine.org/events/sexualisierte-gewalt-gegen-maennli
 che-kinder-und-jugendliche-malte-taeubrich/
SUMMARY:Sexualisierte Gewalt gegen männliche Kinder und Jugendliche / Malt
 e Täubrich
DESCRIPTION:Sexualisierte Gewalt gegen männliche Kinder und Jugendliche is
 t in Deutschland nach wie vor ein aktuelles Thema. Schätzungen gehen davo
 n aus\, dass 10% der männlichen Kinder und Jugendlichen in Deutschland vo
 n sexualisierter Gewalt betroffen sind. Jedoch ist das Thema weiterhin wen
 ig besprochen. In diesem Vortrag wird es einen kurzen Überblick über rel
 evante Aspekte geben\, Formen sexualisierter Gewalt\, Spezifika bei männl
 ichen Betroffen\, Folgen von Sexualisierter Gewalt und Täter*innenstrateg
 ien.\nDie Situation von Betroffenen und ihre Bedarfe werden dabei im Vorde
 rgrund stehen und auf aktuelle Forschungsergebnisse zu männlicher Betroff
 enheit zurückgegriffen\, um diese zu veranschaulichen.\n\n"Malte Täubric
 h\, Dissens - Institut für Bildung und Forschung e.V.\, arbeitet seit meh
 reren Jahren zur Prävention sexualisierter Gewalt gegen (männliche) Kind
 er und Jugendliche. Malte Täubrich forscht zurzeit in einem Praxis-Forsch
 ungsprojekt dazu wie Sexualpädagogik\, Präventionsangebote gegen sexuali
 sierte Gewalt\, Queere Bildung und Jungen*arbeit voneinander lernen und pr
 ofitieren können um Prävention von sexualisierte Gewalt zu verbessern."\
 n\nhttps://www.facebook.com/events/2548437062090141/\n\n&nbsp\;\n\nDie Ver
 anstaltung ist Teil der “Feminismus geht jede*n etwas an!” Reihe vom A
 StA der Leibniz Uni. Mehr Infos zu der Reihe findet ihr auf http://www.ast
 a-hannover.de/ oder der AStA Facebook-Seite (https://www.facebook.com/asta
 hannover/)
CATEGORIES:Vortrag
LOCATION:Elchkeller\, Schneiderberg 50\, Hannover\, Deutschland
X-APPLE-STRUCTURED-LOCATION;VALUE=URI;X-ADDRESS=Schneiderberg 50\, Hannover
 \, Deutschland;X-APPLE-RADIUS=100;X-TITLE=Elchkeller:geo:0,0
END:VEVENT
END:VCALENDAR