BEGIN:VCALENDAR
VERSION:2.0
PRODID:-//wp-events-plugin.com//7.2.3.1//EN
TZID:Europe/Berlin
X-WR-TIMEZONE:Europe/Berlin
BEGIN:VEVENT
UID:12267@rauszeit-termine.org
DTSTART;TZID=Europe/Berlin:20240710T173000
DTEND;TZID=Europe/Berlin:20240710T193000
DTSTAMP:20240710T094754Z
URL:https://rauszeit-termine.org/events/seminarreihe-es-faehrt-kein-zug-du
 rch-yucatan-herausforderungen-und-spannungsfelder-im-kontext-der-territori
 alen-neuordnung-suedmexikos-zwischen-indigener-selbstbestimmung-und-erschl
 iessu-2024-07-10/
SUMMARY:(Uhrzeit geändert!) Seminarreihe: Es fährt (k)ein Zug durch Yucat
 án: Herausforderungen und Spannungsfelder im Kontext der territorialen Ne
 uordnung Südmexikos –Zwischen indigener Selbstbestimmung und Erschlie
 ßung globaler Handelswege
DESCRIPTION:Heute findet die Abschlusssitzung des studentischen Seminars "E
 s fährt (k)ein Zug durch Yucatán statt". Nach vielen Sitzungen mit viele
 n Gästen zu den Auswirkungen auf Mensch und Umwelt durch die Großprojekt
 e in Südmexiko\, und nach einem Blick auf beteiligte Akteur*innen auch au
 s Deutschland möchten wir in der letzten Sitzung im Rahmen einer Podiumsd
 iskussion mit Gästen vom FDCL Berlin (https://www.fdcl.org/) und der Tren
 -Maya-Recherche-AG über Handlungsoptionen diskutieren.\n\nEs wird spannen
 d\, auch wenn ihr das Seminar bisher noch nicht besuchen konntet. Da Mensc
 hen von außerhalb Hannovers anreisen findet diese letzte Sitzung nicht wi
 e normalerweise um 16h\, sondern um 17h30 im Elchkeller statt. Im Anschlus
 s gehen wir zusammen in das UJZ Korn\, um dort den Abend ausklingen zu las
 sen\, wir freuen uns über jede Person\, die Zeit und Lust dazu hat.\n\nKo
 mmt vorbei\, ladet eure Freund*innen ein\, sodass wir gemeinsam unsere stu
 dentisch-organisierte Seminarreihe abschließen können.\n\n&nbsp\;\n\nDer
  Streit um die Definition von "Wohlstand und Entwicklung" ist ein zentrale
 s Thema der globalen Debatte\, Politik und des Widerstands\, insbesondere 
 vor dem Hintergrund der Klimakrise. Im Südosten Mexikos manifestieren sic
 h entsprechende Spannungsfelder in sozioökonomischen und ökologischen Ko
 nflikten\, insbesondere zwischen lokalen Forderungen nach indigener Selbst
 bestimmung und der geopolitisch getriebenen Erschließung neuer Handelsweg
 e.\nSeit 2018 kämpft ausgerechnet das Infrastruktur-Megaprojekt "Tren May
 a" für eine entsprechende "territoriale Neuordnung" des südlichen Mexiko
 s durch den Ausbau eines Schienennetzes. Regierung und Wirtschaft versprec
 hen Arbeitsplätze\, zum Beispiel durch die Ankurbelung des Tourismus. Der
  "Tren Maya" ist jedoch nur ein Teil der offiziell angekündigten Neuordnu
 ng\, die u.a. mit dem Interozeanischen Korridor verbunden ist\, der den Wa
 rentransport zwischen Pazifik und Atlantik erleichtern soll\, verbunden mi
 t dem Bau (Ausbau) von Straßen\, Häfen\, Flughäfen und Industrieparks (
 "Entwicklungspole"). Im größten Migrationskorridor der Welt und in einem
  der artenreichsten Ökosysteme Amerikas gelegen\, häufen sich Berichte 
 über Militarisierung\, Menschenrechtsverletzungen und die Missachtung der
  spezifischen Rechte indigener Völker.\nIn dieser Situation und insbesond
 ere aufgrund der Beteiligung deutscher Akteure wie der Deutschen Bahn an d
 en genannten Ereignissen ist es wichtig\, die wachsende Zahl von Vorwürfe
 n der Militarisierung\, der Menschenrechte und die Missachtung der spezifi
 schen Rechte der indigenen Völker.\nIn dieser Situation und insbesondere 
 aufgrund der Verwicklung deutscher Akteure wie der Deutschen Bahn in die g
 enannten Ereignisse in Mexiko wollen wir in einem interdisziplinären Semi
 nar mit eigenen Analysen Antworten auf diese historischen und zugleich akt
 uellen Fragen von "Wohlstand und Entwicklung" suchen. Dies wird mit vielen
  internationalen Kooperationspartnern aus aller Welt und aus unterschiedli
 chen Kontexten (Universitäten\, indigene Aktivisten\, Juristen\, Biologen
  etc. insbesondere aus Mexiko) und unter der Leitung der Deutschen Bahn du
 rchgeführt. - vor allem aus Mexiko) und unter der Leitung von zwei studen
 tischen Hilfskräften\, Victor Hübotter und Christopher Raue.\n\nDas Semi
 nar wird hauptsächlich in deutscher Sprache durchgeführt. Es wird Beitr
 äge in spanischer Sprache geben\, die simultan übersetzt werden.\n\n&nbs
 p\;\n\nDer Zugangslink zum Online-Raum ist:  https://studip.uni-hannover.
 de/plugins.php/meetingplugin/index?cid=6575632914447fb421f071904ee6c890#/\
 n\n&nbsp\;\n\nAblauf und Termine der Seminarreihe:\n\n10.4.2024: Es fährt
  (kein) Zug durch Yucatán: Einführungsseminar - Thema\, Aufbau\, Problem
 stellung.\n\n17.4.2024: Geschichte: Koloniale Infrastruktur in Südmexiko 
 - Vergangenheit und Gegenwart\nmit Joaquín Díez-Canedo Novelo (Universid
 ad Autónoma de México\, UNAM)\n\n24.4.2024: Ein Gigaprojekt: Der "Maya-Z
 ug" und der "Interozeanische Korridor" als miteinander verbundene Projekte
  im Kontext der territorialen Neuordnung und der globalen Handelsströme.\
 nmit Bettina Cruz (Versammlung der indigenen Völker des Isthmus zur Verte
 idigung von Land und Territorium - APIIDTT\, Oaxaca\, MEX)\n\n30.4.2024 (D
 ienstag): Ökologie: Ökologische Auswirkungen des "Maya-Zugs" auf die Flo
 ra\, Fauna und das Höhlensystem von Quintana Roo.\nHöhlensystem in Quint
 ana Roo.\nmit Elias Siebenborn (Cenotes Urbanos\, Reiseleiter\, Taucher un
 d Höhlenexperte\, Playa del Carmen\, MEX)\n\n8.5.2024: Verletzung indigen
 er Rechte - Auswirkungen und Veränderung indigener Lebensweisen durch die
  "territoriale Neuordnung" des Südens von Mexiko\nmit Pedro Uc Be (Maya-L
 ehrer\, Dichter und Aktivist der Versammlung Múuch Xíinbal Buctzotz\, ME
 X)\n\n13.5.2024 (Montag): Indigene Rechte zwischen Scheinkonsultationen un
 d UN-Überwachung\nmit Prof. Dr. René Kuppe (Universität Wien\, Vorstand
  IWGIA - Internationale Arbeitsgruppe für indigene Angelegenheiten)\n\n29
 .5.2024: Migration und Militarisierung - Megaprojekte am Isthmus von Tehua
 ntepec und auf der Halbinsel Yucatán\nmit Dr. Sergio Pietro Díaz (ECOSUR
  / Universidad de Campeche\, MEX)\; Brenda Ochoa (Centro de Derechos Human
 os Fray Matías de Córdoba\, MEX) &amp\; Prof. Dr. Ana Esther Ceceña (Un
 iversidad Nacional Autónoma de México - UNAM)\n\n&nbsp\;\n\n5.6.2024: Wi
 derstand I - Lokale Formen des Widerstands gegen den "Maya"-Zug und das "T
 or zum Meer" des Maya-Gemeinschaftszentrums U Kúuchil K Ch'i'ibalo'on in 
 Felipe Carillo Puerto\nmit Angel Sulub (Abgeordneter Nationaler Indigener 
 Kongress\, MEX)\n\n12.6.2024: Mit dem Tourismus verbunden - Raum\, Macht u
 nd Arbeit im zeitgenössischen Yucatan\nmit Matilde Córdoba Azcárate (Un
 iversität von San Diego\, USA)\n\n19.6.2024: Widerstand II - Lokale Auswi
 rkungen des "Maya"-Zuges auf indigene Gemeinschaften\, zwischen Militarisi
 erung und Partizipationsmöglichkeiten - Ein Erfahrungsbericht mit dem Reg
 ionalen Indigenen- und Volksrat von Yucatan (Universität San Diego\, USA)
 \nmit dem Regionalen Indigenen- und Volksrat Xpujil (MEX)\n\n26.6.2024: Ü
 ber den Tellerrand schauen - Europäische Unternehmen und internationale V
 erantwortung.\nmit Maria (Kampagne "Der Süden widersteht"/Internationales
  Forschungsnetzwerk\, MEX):\n\n3.7.2024: Widerstand III - Feministische Pe
 rspektiven und Erfahrungen - Patriarchale Auswirkungen von Infrastruktur-M
 egaprojekten im Süden von Mexiko.\nmit Alika Santiago (Tierra de Mujeres 
 Bácalar\, MEX)\n\n10.7.2024: Runder Tisch: Wie kann man mit den Konflikte
 n der "territorialen Neuordnung" Südmexikos angesichts der Wirtschaftskri
 se\, der globalen Erwärmung\, des Umweltschutzes und der indigenen Beteil
 igungsrechte umgehen?\nmit Christian Russau (Centro de Investigación y Do
 cumentación Chile y América Latina / Accionistas Críticos) &amp\; Sheri
 n Abou-Chouka (Historikerin\, Berlin)
ATTACH;FMTTYPE=image/jpeg:https://rauszeit-termine.org/wp-content/uploads/
 2024/04/Abschlusssitzung.jpeg
CATEGORIES:Diskussion,Infoveranstaltung,Seminar,Vernetzung,Vortrag
LOCATION:Elchkeller\, Schneiderberg 50\, Hannover\, Deutschland
X-APPLE-STRUCTURED-LOCATION;VALUE=URI;X-ADDRESS=Schneiderberg 50\, Hannover
 \, Deutschland;X-APPLE-RADIUS=100;X-TITLE=Elchkeller:geo:0,0
END:VEVENT
BEGIN:VTIMEZONE
TZID:Europe/Berlin
X-LIC-LOCATION:Europe/Berlin
BEGIN:DAYLIGHT
DTSTART:20240331T030000
TZOFFSETFROM:+0100
TZOFFSETTO:+0200
TZNAME:CEST
END:DAYLIGHT
END:VTIMEZONE
END:VCALENDAR