BEGIN:VCALENDAR
VERSION:2.0
PRODID:-//wp-events-plugin.com//7.2.3.1//EN
TZID:Europe/Berlin
X-WR-TIMEZONE:Europe/Berlin
BEGIN:VEVENT
UID:6896@rauszeit-termine.org
DTSTART:20210104T170000Z
DTEND:20210104T193000Z
DTSTAMP:20220206T174644Z
URL:https://rauszeit-termine.org/events/selbsthilfe-fahrradwerkstatt-finde
 t-wieder-statt-ab-01-06-2020-mit-voranmeldung-2021-01-04/
SUMMARY:Selbsthilfe Fahrradwerkstatt/ bicycle repair workshop
DESCRIPTION:[English below]\n\nWIR HABEN WIEDER GEÖFFNET --- MIT NEUEN ÖF
 FNUNGSZEITEN\n\nWir schrauben an Fahrrädern\, für uns\, für euch\, zusa
 mmen. Die Fahrradwerkstatt Drahtesel*innen ist eine Selbsthilfewerkstatt u
 nd du kannst kommen und mit unseren Werkzeugen und Hilfe dein eigenes Fahr
 rad reparieren. Wenn du kein kaputtes Fahrrad hast\, kannst du auch einfac
 h so kommen und an einem unserer vielen Spendenfahrräder schrauben.\n\nKo
 mm vorbei\, wenn du Spaß an Fahrraddreck unter den Fingernägeln hast. We
 nn du noch nicht so viel über Fahrradtechnik weißt\, nicht so schlimm\, 
 wir können voneinander lernen.\n\nBitte melde dich wegen Corona vorher be
 i uns per Email an. Wir schreiben dir\, wann du zu uns kommen kannst\, wei
 l wir nur begrenzte Schraubplätze gleichzeitig anbieten können. Wir schr
 auben draußen\, bei Regen unter Dach\, also zieht euch am besten dem Wett
 er entsprechend an. Falls du sehr dringend Hilfe benötigst und wir dir ni
 cht zeitnah helfen können\, versuchen wir dir mit Ferndiagnose und Repara
 turtips zu helfen.\nWICHTIG: Bitte komm getestet zu uns!\n\nNoch Fragen? s
 chreib uns: drahtesel_innen@riseup.net\n\ndrahteselinnen.blogsport.de\n\n/
 /\n\nEnglish:\n\nWE'RE OPEN AGAIN --- WITH NEW OPENING HOURS\n\nPlease con
 tact us via E-Mail in advance. We'll tell you\, when there is a free slot 
 for you because due to Corona we can only offer limites places. We will wo
 rk outside\, in case of rain beneath a roof\, so be prepared for the weath
 er. If you really urgently need help and we can't give you a slot in the n
 ear future\, you can write us an E-Mail and we can try to help you out as 
 good as possible so you can be able to repair your bike at home. IMPORTANT
 : Please test yourself before coming to us!\n\nAny questions? Write us an 
 email: drahtesel_innen@riseup.net\n\ndrahteselinnen.blogsport.de
CATEGORIES:Workshop
LOCATION:Fahrradwerkstatt Drahtesel*innen\, Fröbelstraße 5\, Hannover\, 3
 0451\, Deutschland
X-APPLE-STRUCTURED-LOCATION;VALUE=URI;X-ADDRESS=Fröbelstraße 5\, Hannover
 \, 30451\, Deutschland;X-APPLE-RADIUS=100;X-TITLE=Fahrradwerkstatt Drahtes
 el*innen:geo:0,0
END:VEVENT
END:VCALENDAR