BEGIN:VCALENDAR
VERSION:2.0
PRODID:-//wp-events-plugin.com//7.2.3.1//EN
TZID:Europe/Berlin
X-WR-TIMEZONE:Europe/Berlin
BEGIN:VEVENT
UID:147565@rauszeit-termine.org
DTSTART;TZID=Europe/Berlin:20250913T183000
DTEND;TZID=Europe/Berlin:20250913T235900
DTSTAMP:20250515T184404Z
URL:https://rauszeit-termine.org/events/seapunks-soli-festival/
SUMMARY:SEAPUNKS SOLI FESTIVAL
DESCRIPTION:SEAPUNKS - SOLI-FESTIVAL\nJAB - hc-punk - HTIED - hc - HBSTAND 
 THE STRAIN - melodic hc - BS/MD/WOB/BBITTTER - hc - HHTODAY WILL BE WORSE 
 - hc-punk - HNOWAR - hc - KI\n13.09.25 - doors 18.30 - bands 19.00\nall pr
 oceeds are donated to SEAPUNKS \nℹ️ ACCESS VIA STAIRS ONLY - RESTROOM
  NOT WHEELCHAIR ACCESSIBLE - NO STROBE/FOG - NO PHOTOS/VIDEOS - SMOKE-FREE
  SHOW\n&nbsp\;
ATTACH;FMTTYPE=image/jpeg:https://rauszeit-termine.org/wp-content/uploads/
 2025/05/sea-punks.png
CATEGORIES:Konzert
LOCATION:Stumpf\, Welfengarten 2c\, Hannover\, Niedersachsen\, 30167\, Deut
 schland
X-APPLE-STRUCTURED-LOCATION;VALUE=URI;X-ADDRESS=Welfengarten 2c\, Hannover\
 , Niedersachsen\, 30167\, Deutschland;X-APPLE-RADIUS=100;X-TITLE=Stumpf:ge
 o:0,0
END:VEVENT
BEGIN:VTIMEZONE
TZID:Europe/Berlin
X-LIC-LOCATION:Europe/Berlin
BEGIN:DAYLIGHT
DTSTART:20250330T030000
TZOFFSETFROM:+0100
TZOFFSETTO:+0200
TZNAME:CEST
END:DAYLIGHT
END:VTIMEZONE
END:VCALENDAR