BEGIN:VCALENDAR
VERSION:2.0
PRODID:-//wp-events-plugin.com//7.2.3.1//EN
TZID:Europe/Berlin
X-WR-TIMEZONE:Europe/Berlin
BEGIN:VEVENT
UID:7139@rauszeit-termine.org
DTSTART;TZID=Europe/Berlin:20210306T120000
DTEND;TZID=Europe/Berlin:20210306T130000
DTSTAMP:20210303T131030Z
URL:https://rauszeit-termine.org/events/schoener-wohnen-fuer-alle-zeitung-
 fuer-einen-solidarischen-stadtteil-hannover-nordstadt/
SUMMARY:Schöner Wohnen für Alle - Zeitung für einen solidarischen Stadtt
 eil - Hannover Nordstadt
DESCRIPTION:Out now: Schöner Wohnen für Alle - Zeitung für einen solidar
 ischen Stadtteil - Hannover Nordstadt\n\n** Helft mit beim Verteilen der Z
 eitung für die Nordstadt! **\n\nWirklich viele und tolle Nordstädter_inn
 en\, Gruppen und Initiativen haben zur Stadtteilzeitung beigetragen. Tragt
  mit uns gemeinsam die Zeitung auf die Küchentische. Wir haben ein Ziel: 
 Einen Richtungswechsel! Wir wollen keine Angst vor Umzug\, Kündigung und 
 Mieterhöhungen. Wir wollen schönes Wohnen für Alle und nicht für Profi
 te! Mit dieser Zeitung setzen wir ein Zeichen für einen solidarischen Sta
 dtteil!\n\nIhr könnt die Zeitungen im UJZ Kornstraße abholen:\nSa\, 6.3.
  12-13 Uhr
CATEGORIES:Sonstiges
LOCATION:UJZ Korn\, Kornstraße 28-30\, Hannover\, Niedersachsen\, 30167\, 
 Hannover\, Deutschland
X-APPLE-STRUCTURED-LOCATION;VALUE=URI;X-ADDRESS=Kornstraße 28-30\, Hannove
 r\, Niedersachsen\, 30167\, Hannover\, Deutschland;X-APPLE-RADIUS=100;X-TI
 TLE=UJZ Korn:geo:0,0
END:VEVENT
BEGIN:VTIMEZONE
TZID:Europe/Berlin
X-LIC-LOCATION:Europe/Berlin
BEGIN:STANDARD
DTSTART:20201025T020000
TZOFFSETFROM:+0200
TZOFFSETTO:+0100
TZNAME:CET
END:STANDARD
END:VTIMEZONE
END:VCALENDAR