BEGIN:VCALENDAR
VERSION:2.0
PRODID:-//wp-events-plugin.com//7.2.3.1//EN
TZID:Europe/Berlin
X-WR-TIMEZONE:Europe/Berlin
BEGIN:VEVENT
UID:13884@rauszeit-termine.org
DTSTART;TZID=Europe/Berlin:20250201T000000
DTEND;TZID=Europe/Berlin:20250201T000000
DTSTAMP:20241217T125545Z
URL:https://rauszeit-termine.org/events/save-the-date-alle-zusammen-gegen-
 den-faschismus-rechten-querdenker-aufmarsch-blockieren/
SUMMARY:Save The Date: Alle zusammen gegen den Faschismus - Rechten Querden
 ker-Aufmarsch blockieren!
DESCRIPTION:++ SAVE THE DATE ++\n\nAm 01.02. wollen wieder einmal Querdenke
 r\, Faschos und alle möglichen anderen rechten Akteure nach Göttingen ko
 mmen und unter dem Motto „Göttingen 4“ demonstrieren.\n\nWir werden d
 as nicht zulassen und uns dem konsequent entgegenstellen.\nWeitere Informa
 tionen folgen in den nächsten Wochen.
ATTACH;FMTTYPE=image/jpeg:https://rauszeit-termine.org/wp-content/uploads/
 2024/12/querwichtel-goe.jpg
CATEGORIES:Demo
LOCATION:Göttingen\,  \, Göttingen\, Deutschland
X-APPLE-STRUCTURED-LOCATION;VALUE=URI;X-ADDRESS= \, Göttingen\, Deutschlan
 d;X-APPLE-RADIUS=100;X-TITLE=Göttingen:geo:0,0
END:VEVENT
BEGIN:VTIMEZONE
TZID:Europe/Berlin
X-LIC-LOCATION:Europe/Berlin
BEGIN:STANDARD
DTSTART:20241027T020000
TZOFFSETFROM:+0200
TZOFFSETTO:+0100
TZNAME:CET
END:STANDARD
END:VTIMEZONE
END:VCALENDAR