BEGIN:VCALENDAR
VERSION:2.0
PRODID:-//wp-events-plugin.com//7.2.3.1//EN
TZID:Europe/Berlin
X-WR-TIMEZONE:Europe/Berlin
BEGIN:VEVENT
UID:14241@rauszeit-termine.org
DTSTART;TZID=Europe/Berlin:20250205T193000
DTEND;TZID=Europe/Berlin:20250205T213000
DTSTAMP:20250202T130041Z
URL:https://rauszeit-termine.org/events/salonfaehig-4/
SUMMARY:SALONFÄHIG – 4. Ausgabe
DESCRIPTION:Antifaschistisches Foyerformat zu Widerstand und rechten Bestre
 bungen – 4. Ausgabe am 5. Februar im Theaterfoyer
CATEGORIES:Austausch,Diskussion,Sonstiges,Theater,Treffen
LOCATION:THEATER AN DER GLOCKSEE\, Glockseestr. 35\, Hinterhof\, Hannover\,
  Niedersachsen\, 30169\, Deutschland
X-APPLE-STRUCTURED-LOCATION;VALUE=URI;X-ADDRESS=Glockseestr. 35\, Hinterhof
 \, Hannover\, Niedersachsen\, 30169\, Deutschland;X-APPLE-RADIUS=100;X-TIT
 LE=THEATER AN DER GLOCKSEE:geo:0,0
END:VEVENT
BEGIN:VTIMEZONE
TZID:Europe/Berlin
X-LIC-LOCATION:Europe/Berlin
BEGIN:STANDARD
DTSTART:20241027T020000
TZOFFSETFROM:+0200
TZOFFSETTO:+0100
TZNAME:CET
END:STANDARD
END:VTIMEZONE
END:VCALENDAR