BEGIN:VCALENDAR
VERSION:2.0
PRODID:-//wp-events-plugin.com//7.2.3.1//EN
TZID:Europe/Berlin
X-WR-TIMEZONE:Europe/Berlin
BEGIN:VEVENT
UID:156503@rauszeit-termine.org
DTSTART;TZID=Europe/Berlin:20260420T180000
DTEND;TZID=Europe/Berlin:20260420T180000
DTSTAMP:20260418T185710Z
URL:https://rauszeit-termine.org/events/ruestungswahn-stoppen/
SUMMARY:Rüstungswahn stoppen!
DESCRIPTION:Auf die Straße gehen den Auftritt der Kriegsprofiteure auf der
  Hannover Messe\, gegen die Sozialkürzungen im Rahmen der Rüstung - für
  eine Zukunft ohne Krieg und Krise!\n\nKomm mit uns auf die Straße: Schul
 ter an Schulter für eine Zukunft für die es sich zu kämpfen lohnt!
ATTACH;FMTTYPE=image/jpeg:https://rauszeit-termine.org/wp-content/uploads/
 2026/04/ruestung.jpg
CATEGORIES:Demo
LOCATION:Europa-Platz (Messegelände)\, Hannover-Döhren-Wülfel\, 30521\, 
 Deutschland
X-APPLE-STRUCTURED-LOCATION;VALUE=URI;X-ADDRESS=Hannover-Döhren-Wülfel\, 
 30521\, Deutschland;X-APPLE-RADIUS=100;X-TITLE=Europa-Platz (Messegelände
 ):geo:0,0
END:VEVENT
BEGIN:VTIMEZONE
TZID:Europe/Berlin
X-LIC-LOCATION:Europe/Berlin
BEGIN:DAYLIGHT
DTSTART:20260329T030000
TZOFFSETFROM:+0100
TZOFFSETTO:+0200
TZNAME:CEST
END:DAYLIGHT
END:VTIMEZONE
END:VCALENDAR