BEGIN:VCALENDAR
VERSION:2.0
PRODID:-//wp-events-plugin.com//7.2.3.1//EN
TZID:Europe/Berlin
X-WR-TIMEZONE:Europe/Berlin
BEGIN:VEVENT
UID:6875@rauszeit-termine.org
DTSTART:20200924T180000Z
DTEND:20200924T180000Z
DTSTAMP:20200916T184901Z
URL:https://rauszeit-termine.org/events/rote-zone-zwei-militante-und-zwanz
 ig-mal-musik-2/
SUMMARY:Rote Zone: Zwei Militante und zwanzig Mal Musik
DESCRIPTION:Schon immer und überall auf der Welt hatten linke Bewegungen i
 hre Lieder. Diese Lieder begleiteten die Kämpfe\, gingen aus ihnen hervor
  oder wurden von ihnen übernommen.\nEine musikalische Zeitreise durch die
  Bewegungen würde mehrere Veranstaltungen umfassen.\nDeshalb stellen zwei
  Militante der IL Hannover in der Roten Zone jeweils zehn Lieder vor\, von
  dene sie begleitet wurden oder von denen sie inspiriert wurden. Lasst euc
 h überraschen und nutzt die Chance verschiedene Bewegungen und Kämpfe in
  all ihren Widersprüchlichkeiten durch unsere Genoss_innen kennenzulernen
 .\nWir feuen uns auf alle\, die an dieser musikalischen und biografischen 
 Bewegungsreise teilnehmen. Am Ende ist vielleicht noch Zeit zu diskutieren
 \, was wir aus den Liedern für unseren politischen Aktivismus mitnehmen k
 önnen. Auch wenn sie uns unterhalten\, hat Franz Josef Degenhardt in sein
 em Liedtext recht: "ohne die\, für die ich es sing'\, hätt alles kein' S
 inn."\n\nEine Veranstaltung der Interventionistischen Linken Hannover.
LOCATION:UJZ Korn\, Kornstr. 28-32\, Hannover\, 30167\, Deutschland
X-APPLE-STRUCTURED-LOCATION;VALUE=URI;X-ADDRESS=Kornstr. 28-32\, Hannover\,
  30167\, Deutschland;X-APPLE-RADIUS=100;X-TITLE=UJZ Korn:geo:0,0
END:VEVENT
END:VCALENDAR