BEGIN:VCALENDAR
VERSION:2.0
PRODID:-//wp-events-plugin.com//7.2.3.1//EN
TZID:Europe/Berlin
X-WR-TIMEZONE:Europe/Berlin
BEGIN:VEVENT
UID:14222@rauszeit-termine.org
DTSTART;TZID=Europe/Berlin:20250327T190000
DTEND;TZID=Europe/Berlin:20250327T190000
DTSTAMP:20250319T175753Z
URL:https://rauszeit-termine.org/events/rote-zone-last-exit-karlsruhe/
SUMMARY:Rote Zone: Last Exit Karlsruhe?
DESCRIPTION:Internationaler feministischer Filmabend mit eindrucksvollen Ku
 rzfilmen aus Mexiko\, Chile\, Polen und Österreich. Im Anschluss Drinks\,
  Gespräche und Austausch. Kommt vorbei!
CATEGORIES:Diskussion,Infoveranstaltung
LOCATION:UJZ Korn\, Kornstr. 28-32\, Hannover\, Deutschland
X-APPLE-STRUCTURED-LOCATION;VALUE=URI;X-ADDRESS=Kornstr. 28-32\, Hannover\,
  Deutschland;X-APPLE-RADIUS=100;X-TITLE=UJZ Korn:geo:0,0
END:VEVENT
BEGIN:VTIMEZONE
TZID:Europe/Berlin
X-LIC-LOCATION:Europe/Berlin
BEGIN:STANDARD
DTSTART:20241027T020000
TZOFFSETFROM:+0200
TZOFFSETTO:+0100
TZNAME:CET
END:STANDARD
END:VTIMEZONE
END:VCALENDAR