BEGIN:VCALENDAR
VERSION:2.0
PRODID:-//wp-events-plugin.com//7.2.3.1//EN
TZID:Europe/Berlin
X-WR-TIMEZONE:Europe/Berlin
BEGIN:VEVENT
UID:6872@rauszeit-termine.org
DTSTART:20200827T180000Z
DTEND:20200827T180000Z
DTSTAMP:20200820T201827Z
URL:https://rauszeit-termine.org/events/rote-zone-klimaaktivismus-und-arbe
 itskampf/
SUMMARY:Rote Zone: Klimaaktivismus und Arbeitskampf?
DESCRIPTION:Fridays for Future und Üstra?\nWie solidarisch ist die Klimabe
 wegung mit den Beschäftigten des ÖPNV?\n\nDiese und noch weitere spannen
 de Fragen\, wollen wir zusammen mit einer Klimaaktivistin\, einem Beschäf
 tigten der Üstra und natürlich Euch diskutieren.\n\nFür Klimaaktivist_i
 nnen ist klar: Um die Klimakrise zu stoppen braucht es ein Umdenken im Ber
 eich Verkehr. Weg von Autos\, hin zum klimaneutralen ÖPNV. Ein solcher Au
 sbau des Bus- und Bahnnetzes braucht aber auch jene\, die in diesem Bereic
 h arbeiten wollen. Aber wer soll das machen\, wenn die Arbeitsbedingungen 
 so schlecht sind. In immer mehr Städten gehen Aktivist_innen von Fridays 
 for Future zusammen mit Beschäftigten und Gewerkschaften auf die Straße.
 \nAber bis wohin reicht die Solidarität wenn man sich mal nicht ganz so e
 inig ist? Kommt vorbei!\n\nWir freuen uns auf Euch!\n\nEine Veranstaltung 
 der IL Hannover.
LOCATION:UJZ Korn\, Kornstr. 28-32\, Hannover\, 30167\, Deutschland
X-APPLE-STRUCTURED-LOCATION;VALUE=URI;X-ADDRESS=Kornstr. 28-32\, Hannover\,
  30167\, Deutschland;X-APPLE-RADIUS=100;X-TITLE=UJZ Korn:geo:0,0
END:VEVENT
END:VCALENDAR