BEGIN:VCALENDAR
VERSION:2.0
PRODID:-//wp-events-plugin.com//7.2.3.1//EN
TZID:Europe/Berlin
X-WR-TIMEZONE:Europe/Berlin
BEGIN:VEVENT
UID:150553@rauszeit-termine.org
DTSTART;TZID=Europe/Berlin:20251023T190000
DTEND;TZID=Europe/Berlin:20251023T210000
DTSTAMP:20251014T200352Z
URL:https://rauszeit-termine.org/events/rote-zone-keine-blockade-ist-auch-
 keine-loesung/
SUMMARY:Rote Zone: Keine Blockade ist auch keine Lösung
DESCRIPTION:Die Veranstaltung thematisiert die Bedeutung von Blockaden als 
 Mittel interventionistischer Politik und diskutiert deren Erfolgspotenzial
  und Kritik.
CATEGORIES:Austausch,Kennenlernen,Vortrag
LOCATION:UJZ Korn\, Kornstr. 28-32\, Hannover\, Deutschland
X-APPLE-STRUCTURED-LOCATION;VALUE=URI;X-ADDRESS=Kornstr. 28-32\, Hannover\,
  Deutschland;X-APPLE-RADIUS=100;X-TITLE=UJZ Korn:geo:0,0
END:VEVENT
BEGIN:VTIMEZONE
TZID:Europe/Berlin
X-LIC-LOCATION:Europe/Berlin
BEGIN:DAYLIGHT
DTSTART:20250330T030000
TZOFFSETFROM:+0100
TZOFFSETTO:+0200
TZNAME:CEST
END:DAYLIGHT
END:VTIMEZONE
END:VCALENDAR