BEGIN:VCALENDAR
VERSION:2.0
PRODID:-//wp-events-plugin.com//7.2.3.1//EN
TZID:Europe/Berlin
X-WR-TIMEZONE:Europe/Berlin
BEGIN:VEVENT
UID:6833@rauszeit-termine.org
DTSTART:20200723T180000Z
DTEND:20200723T180000Z
DTSTAMP:20200716T193851Z
URL:https://rauszeit-termine.org/events/rote-zone-corona-scheisse-oder-cha
 nce/
SUMMARY:Rote Zone: Corona - Scheisse oder Chance?
DESCRIPTION:Mit dem Beginn der Coronapandemie veränderte sich die Gesellsc
 haft. Auf einmal versicherten Politiker_innen fast aller Parteien ihre Ane
 rkennung und Unterstützung für Gesundheitsarbeiter_innen in jede verfüg
 bare Kamera. Von den Balkonen wurde für die Kolleg_innen im Gesundheitsse
 ktor und im Einzelhandel applaudiert.\nAuch in Hannover organisierten sich
  Menschen\, um Nachbar_innen aus Risikogruppen durch Einkaufs- und Versorg
 ungsfahrten zu unterstützen. Die IL thematisierte u.a. die Situation in d
 en Lagern an den EU Außengrenzen\, die Wohnungsfrage\, soziale Absicherun
 g und soziale Infrastruktur.\nDoch welche Fragen ergeben sich jetzt nachde
 m der Ausnahmezustand zur Normalität geworden ist? Wie sollte die Gesells
 chaft nach Corona aussehen\, wie wollen wir dafür kämpfen und welche Cha
 ncen haben wir?\n\nDiese Fragen wollen wir in coronagerechter Atmosphäre 
 diskutieren - mit einem Vertreter des Netzwerk "Solidarität statt Hamster
 käufe" und euch.
CATEGORIES:Diskussion
LOCATION:UJZ Korn\, Kornstr. 28-32\, Hannover\, 30167\, Deutschland
X-APPLE-STRUCTURED-LOCATION;VALUE=URI;X-ADDRESS=Kornstr. 28-32\, Hannover\,
  30167\, Deutschland;X-APPLE-RADIUS=100;X-TITLE=UJZ Korn:geo:0,0
END:VEVENT
END:VCALENDAR