BEGIN:VCALENDAR
VERSION:2.0
PRODID:-//wp-events-plugin.com//7.2.3.1//EN
TZID:Europe/Berlin
X-WR-TIMEZONE:Europe/Berlin
BEGIN:VEVENT
UID:12358@rauszeit-termine.org
DTSTART;TZID=Europe/Berlin:20240705T190000
DTEND;TZID=Europe/Berlin:20240705T220000
DTSTAMP:20240516T155831Z
URL:https://rauszeit-termine.org/events/rolf-becker-liest-erich-muehsam/
SUMMARY:Rolf Becker liest Erich Mühsam
DESCRIPTION:Rolf Becker liest Erich Mühsam Der Abend wird mit musikalische
 n Beiträgen von Holger Kirleis (Piano/Klangobjekte) unterstützt.
CATEGORIES:Konzert,Lesung/Buchvorstellung
LOCATION:Pavillon Kulturzentrum\, Lister Meile\, 4\, Hannover\, 30161\, Deu
 tschland
X-APPLE-STRUCTURED-LOCATION;VALUE=URI;X-ADDRESS=Lister Meile\, 4\, Hannover
 \, 30161\, Deutschland;X-APPLE-RADIUS=100;X-TITLE=Pavillon Kulturzentrum:g
 eo:0,0
END:VEVENT
BEGIN:VTIMEZONE
TZID:Europe/Berlin
X-LIC-LOCATION:Europe/Berlin
BEGIN:DAYLIGHT
DTSTART:20240331T030000
TZOFFSETFROM:+0100
TZOFFSETTO:+0200
TZNAME:CEST
END:DAYLIGHT
END:VTIMEZONE
END:VCALENDAR