BEGIN:VCALENDAR
VERSION:2.0
PRODID:-//wp-events-plugin.com//7.2.3.1//EN
TZID:Europe/Berlin
X-WR-TIMEZONE:Europe/Berlin
BEGIN:VEVENT
UID:6748@rauszeit-termine.org
DTSTART:20200408T150000Z
DTEND:20200408T170000Z
DTSTAMP:20200326T111150Z
URL:https://rauszeit-termine.org/events/resilienz-psychische-widerstandsfa
 ehigkeit-und-staerke-entwickeln/
SUMMARY:Resilienz. Psychische Widerstandsfähigkeit und Stärke entwickeln
DESCRIPTION:Online-Vortrag mit Brigitte Schäfer\n\nSchwierige Zeiten wie d
 ie derzeitige Coronakrise\, in der wir aus unseren alltäglichen Routinen 
 herausgerissen sind\, lassen häufig Stress entstehen. Menschen mit einer 
 hohen Resilienz\, übersetzt psychische Widerstandskraft\, können mit die
 sen Stressbelastungen in der Regel besser zurechtkommen\, weil sie untersc
 hiedliche Tools und Fähigkeiten zur Bewältigung zur Verfügung haben. Im
  Vortrag erfahren Sie\, welche inneren Haltungen hilfreich und welche Meth
 oden zur Übung der Resilienz derzeit förderlich sind im Umgang mit der K
 rise.\n\n 	Referentin: Brigitte Schäfer (Diplom-Psychologin\, Diplom-Theo
 login\, Trainerin und Coach mit den Schwerpunktthemen Psychische Gesundhei
 t\, Kommunikation und Konfliktmanagement)\n 	Anmeldung: kontakt [at] mosai
 kgesundheit [dot] de (Nach der Anmeldung erhalten Sie die Zugangsdaten und
  eine kurze Anleitung zur verwendeten Technik)\n 	Teilnahme kostenfrei\, g
 efördert aus Mitteln des Landes Niedersachsen.\n 	Eine Veranstaltung von 
 MOSAIK Gesundheit\n
CATEGORIES:LGBT*I*Q,Vortrag
END:VEVENT
END:VCALENDAR