BEGIN:VCALENDAR
VERSION:2.0
PRODID:-//wp-events-plugin.com//7.2.3.1//EN
TZID:Europe/Berlin
X-WR-TIMEZONE:Europe/Berlin
BEGIN:VEVENT
UID:14178@rauszeit-termine.org
DTSTART;TZID=Europe/Berlin:20250115T154500
DTEND;TZID=Europe/Berlin:20250115T154500
DTSTAMP:20250114T085622Z
URL:https://rauszeit-termine.org/events/raus-zum-autonom-feministischen-sc
 hutzwall/
SUMMARY:Raus zum autonom-feministischen Schutzwall!
DESCRIPTION:Liebe Freund:innen\,\nseit dem Beginn des Patriarchats gibt es 
 Widerstand. Dieser Widerstand wird viel von Frauen getragen\, die uns ein 
 Vorbild sind.\nAm 15.01.1917 wurde die Sozialistin\, Internationalistin un
 d Frauenrechtlerin Rosa Luxemburg für ihren Mut und ihre Stärke in diese
 m Kampf ermordet. Ihre Kraft hat es geschafft 100erte\, 1000de Frauen welt
 weit dazu zu bringen den Widerstand weiter zu tragen.\nAuf ihrem Erbe aufb
 auend hat sich am 15.01.2005 die Frauenbewegung Kongra Star in Syrien – 
 Rojava gegründet.\nDie Kraft die organisierte Frauen in einer Gesellschaf
 t entwickeln können\, sehen wir heute in Syrien.\nDiese Kraft wird von Ds
 chihadisten und dem türkischen Staat seit ihres Bestehens angegriffen.\nD
 ie aktuellen Angriffe sind der Versuch die gesamte Frauenrevolution in Syr
 ien zu vernichten.\nDoch wir sehen\, dass ihre Kraft stärker ist und vom 
 Internationalismus lebt.\n\nEs ist an der Zeit\, dass wir uns der Verantwo
 rtung von Rosa anschließen und in vereinter Kraft die Frauenrevolution au
 f der ganzen Welt verteidigen.\n\nAm 15. wollen wir vor der türkischen Bo
 tschaft (auf der Seite der Christuskirche) mit einem autonom-feministische
 n Schutzwall\, eine Menschenkette mit verknoteten Schals und Tüchern\, un
 sere Kräfte vereinen.\n\nBringt Tücher\, eure männlichen Genossen und g
 erne auch weitere Freund:innen mit damit wir viele sind. Den Schutzwall we
 rden wir autonom-feministisch aufbauen.\nRedebeiträge sind sehr willkomme
 n.
ATTACH;FMTTYPE=image/jpeg:https://rauszeit-termine.org/wp-content/uploads/
 2025/01/autonom-feministischer-schutzwall.jpg
CATEGORIES:Kundgebung
LOCATION:Türkisches Konsulat\, An der Christuskirche 3\, Hannover\, 30167\
 , Deutschland
X-APPLE-STRUCTURED-LOCATION;VALUE=URI;X-ADDRESS=An der Christuskirche 3\, H
 annover\, 30167\, Deutschland;X-APPLE-RADIUS=100;X-TITLE=Türkisches Konsu
 lat:geo:0,0
END:VEVENT
BEGIN:VTIMEZONE
TZID:Europe/Berlin
X-LIC-LOCATION:Europe/Berlin
BEGIN:STANDARD
DTSTART:20241027T020000
TZOFFSETFROM:+0200
TZOFFSETTO:+0100
TZNAME:CET
END:STANDARD
END:VTIMEZONE
END:VCALENDAR