BEGIN:VCALENDAR
VERSION:2.0
PRODID:-//wp-events-plugin.com//7.2.3.1//EN
TZID:Europe/Berlin
X-WR-TIMEZONE:Europe/Berlin
BEGIN:VEVENT
UID:7013@rauszeit-termine.org
DTSTART:20201218T200000Z
DTEND:20201218T220000Z
DTSTAMP:20201218T123915Z
URL:https://rauszeit-termine.org/events/rampe-reicht-live-podcast-zum-them
 a-medical-bias/
SUMMARY:Rampe? Reicht! Live Podcast zum Thema "Medical Bias"
DESCRIPTION:*** Den Stream des Live-Podcast könnt ihr euch über youtube (
 @andersraum)\, www.hannovercsd.de oder facebook (@hannovercsd) anschauen. 
 Der Streaminglink wird kurz vor Veranstaltungsbeginn dort erscheinen. Eine
  Anmeldung ist nicht erforderlich.***\n\n\nSchwarzRund hat 2016 ihren Afro
 queeren Roman Biskaya veröffentlicht\, seit dem wurde sie in diversen Bü
 chern\, Magazinen und Zines publiziert. Auf schwarzrund.de findet ihr Arti
 kel\, Auftritte\, Kunst\, Zines und alle Neuigkeiten. Sie positioniert sic
 h als femme\, pan\, dick\, Schwarz\, afro-latin@ \, Behindert und Neurodiv
 ers.\nIhr Forschungsschwerpunkt in den Gender Studies sind Interventionen\
 , Decolonize und Afroqueere Lebensentwürfe. Im Dezember 2020 erscheint Qu
 asi \,eine Afroqueere Novelle im Ach je Verlag und kann bereits bestellt w
 erden!\nsimo_tier schreibt kurze Texte und Poesie\, schafft Collagen und a
 ndere Papierkunst\, welche es in Zines publiziert. Die Arbeiten werden bee
 influsst von der eigenen erlebten Realität als\nbehinderte\, fette\, migr
 ierte\, agender\, weiße\, autistische Femme.\nBei der Ausstellung Out of 
 Many beim TransFormations Festival Berlin 2018 wurden Gemälde\, Collagen 
 und Zeichnungen von simo_tier ausgestellt.\nIn seiner Zine-Serie Chronisch
  Grumpy schreibt es über Behinderung und andere alltägliche Dinge.\nRamp
 eReicht! ist der Podcast in dem die beiden über Behinderungen\, gesellsch
 aftliche und Community-interne Ausschlüsse quatschen.\nIn der ersten Staf
 fel sprachen sie über Behinderung und: Wohnmarkt\, Freund_innenschaften\,
  und Un_Sichtbarkeiten in den Behindertenbewegungen. Derzeit nehmen sie di
 e zweite Staffel auf\, unterbrechen ihre Studiozeit aber für diese Live F
 olge! Das Thema am 18.12. im Rahmen des CSD Hannover und der UniSex Hochsc
 hultage der Leibniz Universität Hannover ist: der medizinische Bias.\nZus
 ammengenommen haben die beiden verschiedene Identitäten: trans\, Schwarz\
 , behindert\, neurodivergent\, migriert\, chronisch krank\, queer\, nicht 
 cis-männlich\, dick\, autistisch\, bipolar\, Risikogruppe bei Covid 19.\n
 All diese Kategorien erschweren den Zugang zur Gesundheitsversorgung. Was 
 das für ein “gutes Leben” (buen vivir) bedeutet\, könnt ihr live mit
 diskutieren!
END:VEVENT
END:VCALENDAR