BEGIN:VCALENDAR
VERSION:2.0
PRODID:-//wp-events-plugin.com//7.2.3.1//EN
TZID:Europe/Berlin
X-WR-TIMEZONE:Europe/Berlin
BEGIN:VEVENT
UID:6853@rauszeit-termine.org
DTSTART:20200915T180000Z
DTEND:20200915T194500Z
DTSTAMP:20200721T075629Z
URL:https://rauszeit-termine.org/events/quidditch-training-2-2020-09-15/
SUMMARY:Quidditch-Training ...
DESCRIPTION:\n... bei den Hannover Niffler!\n\nFür kurzfristige Änderunge
 n von Zeiten bitte auf dem Niffler-Blog vorbeischauen.\n\nDu möchtest ein
 fach mal was Neues ausprobieren?\nDu wolltest schon immer wie Harry &amp\;
  Co. durch die Lüfte fliegen?\n\nSo oder so\, komm vorbei\, wenn Du Lust 
 auf eine Mischung aus Handball\, Rugby\, Völkerball und Co. hast. Bring g
 erne Freund*innen und vor allem Lust auf Bewegung mit.\n\nQuidditch wird g
 emischtgeschlechtlich gespielt\, das heißt\, es gibt keine Teams nach Ges
 chlechtern getrennt. Bei uns spielen alle zusammen\, ob sie sich weiblich*
 \, trans*\, männlich*\, inter* oder noch anders definieren.\n\nSportliche
  Vorerfahrung wird NICHT benötigt.\n\nDas Training beginnt dienstags um 2
 0:00 Uhr und donnerstags um 19 Uhr am Bischofsholer Damm 119 bei Arminia H
 annover und endet um 21:45 Uhr bzw. 20.45 Uhr.\n\nZum Niffler-Blog
CATEGORIES:Sport
LOCATION:Arminia Hannover\, Bischofsholer Damm 119\, Hannover\, Deutschland
X-APPLE-STRUCTURED-LOCATION;VALUE=URI;X-ADDRESS=Bischofsholer Damm 119\, Ha
 nnover\, Deutschland;X-APPLE-RADIUS=100;X-TITLE=Arminia Hannover:geo:0,0
END:VEVENT
END:VCALENDAR