BEGIN:VCALENDAR
VERSION:2.0
PRODID:-//wp-events-plugin.com//7.2.3.1//EN
TZID:Europe/Berlin
X-WR-TIMEZONE:Europe/Berlin
BEGIN:VEVENT
UID:13842@rauszeit-termine.org
DTSTART;TZID=Europe/Berlin:20250116T190000
DTEND;TZID=Europe/Berlin:20250116T190000
DTSTAMP:20241202T202904Z
URL:https://rauszeit-termine.org/events/queerkeller-indoorpicknick/
SUMMARY:Queerkeller Indoorpicknick
DESCRIPTION:Wir veranstalten wieder ein Indoor-Picknick! Alle bringen etwas
 \, am besten etwas Selbstgemachtes\, mit und wir essen gemeinsam. Getränk
 e können im Elchkeller gekauft werden. Nehmt\, wie immer\, eigenes Geschi
 rr und Besteck mit.
ATTACH;FMTTYPE=image/jpeg:https://rauszeit-termine.org/wp-content/uploads/
 2024/12/Queerkeller_Logo_Schrift_Kreis_Rauszeit-3.png
CATEGORIES:LGBT*I*Q,Safer Space,Treffen
LOCATION:Elchkeller\, Schneiderberg 50\, Hannover\, Deutschland
X-APPLE-STRUCTURED-LOCATION;VALUE=URI;X-ADDRESS=Schneiderberg 50\, Hannover
 \, Deutschland;X-APPLE-RADIUS=100;X-TITLE=Elchkeller:geo:0,0
END:VEVENT
BEGIN:VTIMEZONE
TZID:Europe/Berlin
X-LIC-LOCATION:Europe/Berlin
BEGIN:STANDARD
DTSTART:20241027T020000
TZOFFSETFROM:+0200
TZOFFSETTO:+0100
TZNAME:CET
END:STANDARD
END:VTIMEZONE
END:VCALENDAR