BEGIN:VCALENDAR
VERSION:2.0
PRODID:-//wp-events-plugin.com//7.2.3.1//EN
TZID:Europe/Berlin
X-WR-TIMEZONE:Europe/Berlin
BEGIN:VEVENT
UID:6826@rauszeit-termine.org
DTSTART:20200716T150000Z
DTEND:20200716T190000Z
DTSTAMP:20200701T072042Z
URL:https://rauszeit-termine.org/events/queere-vielfalt-wir-sind-so-unters
 chiedlich-wie-ein-regenbogen/
SUMMARY:Queere Vielfalt. "Wir sind so unterschiedlich wie ein Regenbogen"
DESCRIPTION:Das Thema des Workshops ist in aller Munde\, aber worum handelt
  es sich überhaupt dabei?\n\nUm einer Antwort näherzukommen\, werden wir
  uns mit folgenden Fragen beschäftigen:\n\nWas bedeutet geschlechtliche\,
  sexuelle und amouröse Vielfalt? Welche verschiedenen Identitätskategori
 en gibt es? Welchen Diskriminierungen sind Menschen mit diesen Identitäte
 n ausgesetzt? Wie kann ich mich für das Thema sensibilisieren und Unterst
 ützung geben?\n\n 	Referent*in: blu von Queer_topia*\n 	Anmeldung: kon
 takt [at] mosaikgesundheit [dot] de (Nach der Anmeldung erhältst du die 
 Zugangsdaten und eine kurze Anleitung zur verwendeten Technik)\n 	Max. 16 
 Teilnehmende\n 	Der Workshop findet in deutscher Lautsprache statt und ist
  offen für alle FLINTA`s\n 	Teilnahme kostenfrei\, gefördert aus Mitteln
  des Landes Niedersachsen.\n 	Eine Veranstaltung von MOSAIK Gesundheit in 
 Kooperation mit TiN\n
CATEGORIES:FLT*I*Q* Only,Workshop
END:VEVENT
END:VCALENDAR