BEGIN:VCALENDAR
VERSION:2.0
PRODID:-//wp-events-plugin.com//7.2.3.1//EN
TZID:Europe/Berlin
X-WR-TIMEZONE:Europe/Berlin
BEGIN:VEVENT
UID:6993@rauszeit-termine.org
DTSTART:20201117T160000Z
DTEND:20201117T180000Z
DTSTAMP:20201104T084326Z
URL:https://rauszeit-termine.org/events/queere-familiengruendung-lesben-un
 d-kinderwunsch/
SUMMARY:Queere Familiengründung – Lesben* und Kinderwunsch
DESCRIPTION:Die möglichen Wege der Familiengründung für Lesben* möchte 
 ich während dieser Veranstaltung beleuchten. Welche Chancen und Risiken b
 ergen die verschiedenen Wege in die Familiengründung? Wie könnte die eig
 ene Rolle (rechtliche\, biologische\, genetische und soziale Elternschaft)
  in der zukünftigen Familie aussehen\, wie viele Elternteile wünscht ihr
  Euch und welche Auswirkungen haben diese Entscheidungen auf die beteiligt
 en Personen?\n\n 	Referent*in: Michaela Herbertz-Floßdorf (Selbständige 
 Pädagogin: www.mundwerk-training.de)\n 	Anmeldung unter: kontakt [at] mo
 saikgesundheit [dot] de\n 	Die Veranstaltung findet auf Zoom statt\n 	Eint
 ritt frei\, gefördert aus Mitteln des Landes Niedersachsen.\n 	Eine Veran
 staltung von MOSAIK Gesundheit\n
CATEGORIES:FLT*I*Q* Only,Vortrag
END:VEVENT
END:VCALENDAR