BEGIN:VCALENDAR
VERSION:2.0
PRODID:-//wp-events-plugin.com//7.2.3.1//EN
TZID:Europe/Berlin
X-WR-TIMEZONE:Europe/Berlin
BEGIN:VEVENT
UID:6831@rauszeit-termine.org
DTSTART:20200820T150000Z
DTEND:20200820T190000Z
DTSTAMP:20200701T074432Z
URL:https://rauszeit-termine.org/events/queere-aengste-ich-fuerchte-mich-d
 as-zu-zeigen/
SUMMARY:Queere Ängste. „Ich fürchte mich das zu zeigen…“
DESCRIPTION:In diesem Workshop wollen wir uns mit queeren Ängsten beschäf
 tigen. Dazu wollen wir uns mit den folgenden Fragen auseinandersetzen: Wo 
 und wann habe ich als queere Person Angst? Wie hängen queere Ängste mit 
 bestehenden Machtverhältnissen zusammen? Wie ist mein Umgang damit? Wie k
 ann ein anderer Umgang damit aussehen? Wie können wir uns supporten?\n\nW
 ir werden uns mit diesen Fragen in Gesprächen und mit verschiedenen ander
 en Methoden auseinandersetzen.\n\n 	Referent*in: blu von Queer_topia*\n 
 	Anmeldung: kontakt [at] mosaikgesundheit [dot] de (Nach der Anmeldung e
 rhältst du die Zugangsdaten und eine kurze Anleitung zur verwendeten Tech
 nik)\n 	Max. 16 Teilnehmende\n 	Der Workshop findet in deutscher Lautsprac
 he statt und ist offen für alle FLINTA`s\n 	Teilnahme kostenfrei\, geför
 dert aus Mitteln des Landes Niedersachsen.\n 	Eine Veranstaltung von MOSAI
 K Gesundheit in Kooperation mit TiN\n
CATEGORIES:FLT*I*Q* Only,Workshop
END:VEVENT
END:VCALENDAR