BEGIN:VCALENDAR
VERSION:2.0
PRODID:-//wp-events-plugin.com//7.2.3.1//EN
TZID:Europe/Berlin
X-WR-TIMEZONE:Europe/Berlin
BEGIN:VEVENT
UID:14173@rauszeit-termine.org
DTSTART;TZID=Europe/Berlin:20250118T200000
DTEND;TZID=Europe/Berlin:20250118T234500
DTSTAMP:20250114T083643Z
URL:https://rauszeit-termine.org/events/punkrock-hardcore-konzert/
SUMMARY:Punkrock/ Hardcore Konzert
DESCRIPTION:Yussuf Today (Punkrock/ Hardcore Cover aus Oldenburg) + Four Or
  Five (Punkrock/ Hardcore aus Hannover)
ATTACH;FMTTYPE=image/jpeg:https://rauszeit-termine.org/wp-content/uploads/
 2025/01/Sturmglocke-Groesse-angepasst.jpeg
CATEGORIES:Konzert
LOCATION:Sturmglocke\, Klaus-Müller-Kilian-Weg 1\, Hannover\, 30167\, Deut
 schland
X-APPLE-STRUCTURED-LOCATION;VALUE=URI;X-ADDRESS=Klaus-Müller-Kilian-Weg 1\
 , Hannover\, 30167\, Deutschland;X-APPLE-RADIUS=100;X-TITLE=Sturmglocke:ge
 o:0,0
END:VEVENT
BEGIN:VTIMEZONE
TZID:Europe/Berlin
X-LIC-LOCATION:Europe/Berlin
BEGIN:STANDARD
DTSTART:20241027T020000
TZOFFSETFROM:+0200
TZOFFSETTO:+0100
TZNAME:CET
END:STANDARD
END:VTIMEZONE
END:VCALENDAR