BEGIN:VCALENDAR
VERSION:2.0
PRODID:-//wp-events-plugin.com//7.2.3.1//EN
TZID:Europe/Berlin
X-WR-TIMEZONE:Europe/Berlin
BEGIN:VEVENT
UID:149826@rauszeit-termine.org
DTSTART;TZID=Europe/Berlin:20250912T200000
DTEND;TZID=Europe/Berlin:20250912T200000
DTSTAMP:20250815T093924Z
URL:https://rauszeit-termine.org/events/punk-pommes/
SUMMARY:Punk & Pommes
DESCRIPTION:WONACH WIR SUCHEN & The Runnings\n\nEinlass und Pommes ab 20.00
  Uhr \n\nKonzert ab 21.00 Uhr\n\nWONACH WIR SUCHEN:\nAus einem Liedermache
 rduo ist WONACH WIR SUCHEN in über zehn Jahren zu einer vierköpfigen\nBa
 nd gewachsen\, die irgendwo zwischen Indie\, Punk und Straßenpop ein ganz
  eigenes Feld\nbelegt. Tanzbare Musik trifft auf authentische deutsche Tex
 te. Bei ihren Konzerten verzichten\nsie auf die altbekannten Animationsspi
 elchen und Mitgröhlchöre und reißen das Publikum\nstattdessen mit ihrer
  ganz Bühnenpräsenz mit.\nMal tief persönlich\, mal hochpolitisch\, abe
 r niemals beliebig - so können die Leipziger auf jeder Bühne ihren Platz
  finden.\n\nThe Runnings:\n"Da ist sie wieder\, diese eine Band\, die aus 
 dem riesen Pool von Bands\, die in Leipzig ihr Unwesen treiben\, hervorsti
 cht."(1) Seit dem ersten Konzert Anfang 2024 haben sich THE RUNNINGS recht
  schnell in viele Herzen gespielt. \nIm ersten Jahr standen direkt 26 Konz
 erte von Berlin bis München auf dem Tourplan und es wurde  ja mit Bands w
 ie PRESS CLUB und SOAP GIRLS gespielt\, ebenso wie einige kleine Festivals
 . Nicht nur live lässt sich erkennen\, dass hier geballte Erfahrung auf d
 er Bühne steht\, denn Laura\, Vinve\, Jonas und Seb waren und sind noch i
 n einigen anderen Bands unterwegs (THE FLAMING ROCKS\, CHARTREUX\, PIEFKE\
 , ...). Die vierte Single BEAR ONE ANOTHERS BURDENS kommt am 21. März 202
 5. Das erste Album folgt dann im Mai 2025. Das Debut LESSONS TO LEARN wurd
 e ab Anfang 2024 aufgenommen. 10 Songs "irgendwo zwischen Baboon Show und 
 70er Garage RnR"(2).\n\n(1)Zitat vom ROCK AM KUHTEICH Fest\n(2)Zitat von B
 IERSCHINKEN.net
ATTACH;FMTTYPE=image/jpeg:https://rauszeit-termine.org/wp-content/uploads/
 2025/08/punkpommes.jpg
CATEGORIES:Konzert
LOCATION:UJZ Korn\, Kornstraße 28-30\, Hannover\, Niedersachsen\, 30167\, 
 Hannover\, Deutschland
X-APPLE-STRUCTURED-LOCATION;VALUE=URI;X-ADDRESS=Kornstraße 28-30\, Hannove
 r\, Niedersachsen\, 30167\, Hannover\, Deutschland;X-APPLE-RADIUS=100;X-TI
 TLE=UJZ Korn:geo:0,0
END:VEVENT
BEGIN:VTIMEZONE
TZID:Europe/Berlin
X-LIC-LOCATION:Europe/Berlin
BEGIN:DAYLIGHT
DTSTART:20250330T030000
TZOFFSETFROM:+0100
TZOFFSETTO:+0200
TZNAME:CEST
END:DAYLIGHT
END:VTIMEZONE
END:VCALENDAR