BEGIN:VCALENDAR
VERSION:2.0
PRODID:-//wp-events-plugin.com//7.2.3.1//EN
TZID:Europe/Berlin
X-WR-TIMEZONE:Europe/Berlin
BEGIN:VEVENT
UID:14554@rauszeit-termine.org
DTSTART;TZID=Europe/Berlin:20250212T200000
DTEND;TZID=Europe/Berlin:20250212T200000
DTSTAMP:20250206T212743Z
URL:https://rauszeit-termine.org/events/plattformismus-especifismo/
SUMMARY:Plattformismus & Especifismo
DESCRIPTION:Einladung von Die Plattform Hamburg:\nIn unserer Arbeit als Pla
 ttform beziehen wir uns unter anderem auf zwei spezifische Organisationsan
 sätze aus der weltweiten Geschichte der anarchistischen Bewegung\, den Pl
 attformismus und den Especifismo. In diesem Vortrag stellen euch zwei Mitg
 lieder unserer Hamburger Lokalgruppe diese Ansätze vor.\nWir freuen uns a
 uf euch!\n\n
ATTACH;FMTTYPE=image/jpeg:https://rauszeit-termine.org/wp-content/uploads/
 2025/02/Plattformismus-und-Especifismo-1.jpg
CATEGORIES:Vortrag
LOCATION:UJZ Korn\, Kornstraße 28-30\, Hannover\, Niedersachsen\, 30167\, 
 Hannover\, Deutschland
X-APPLE-STRUCTURED-LOCATION;VALUE=URI;X-ADDRESS=Kornstraße 28-30\, Hannove
 r\, Niedersachsen\, 30167\, Hannover\, Deutschland;X-APPLE-RADIUS=100;X-TI
 TLE=UJZ Korn:geo:0,0
END:VEVENT
BEGIN:VTIMEZONE
TZID:Europe/Berlin
X-LIC-LOCATION:Europe/Berlin
BEGIN:STANDARD
DTSTART:20241027T020000
TZOFFSETFROM:+0200
TZOFFSETTO:+0100
TZNAME:CET
END:STANDARD
END:VTIMEZONE
END:VCALENDAR