BEGIN:VCALENDAR
VERSION:2.0
PRODID:-//wp-events-plugin.com//7.2.3.1//EN
TZID:Europe/Berlin
X-WR-TIMEZONE:Europe/Berlin
BEGIN:VEVENT
UID:14217@rauszeit-termine.org
DTSTART;TZID=Europe/Berlin:20250124T183000
DTEND;TZID=Europe/Berlin:20250124T183000
DTSTAMP:20250116T213038Z
URL:https://rauszeit-termine.org/events/plakatieren-fuer-den-bundesweiten-
 klimastreik-2025-01-24/
SUMMARY:Plakatieren für den bundesweiten Klimastreik
DESCRIPTION:Der Bundesweite ✨️Klimastreik✨️ am 14.02. rückt näher
 .\nUnd damit auch die Bundestagswahl am 23.02.\n\nWir treffen uns ab sofor
 t jeden Freitag um 18:30 Uhr in der UJZ Kornstraße um zusammen zu plakati
 eren\, zu sprayen und ein paar Bannerdrops zu machen.\nKommt vorbei und la
 sst uns zusammen auf unsere Demo aufmerksam machen.\nGrenzenlose Solidarit
 ät - Klimagerechtigkeit jetzt\n✊️
ATTACH;FMTTYPE=image/jpeg:https://rauszeit-termine.org/wp-content/uploads/
 2025/01/klimastreik-plakatieren.webp
CATEGORIES:Aktion
LOCATION:UJZ Korn\, Kornstraße 28-30\, Hannover\, Niedersachsen\, 30167\, 
 Hannover\, Deutschland
X-APPLE-STRUCTURED-LOCATION;VALUE=URI;X-ADDRESS=Kornstraße 28-30\, Hannove
 r\, Niedersachsen\, 30167\, Hannover\, Deutschland;X-APPLE-RADIUS=100;X-TI
 TLE=UJZ Korn:geo:0,0
END:VEVENT
BEGIN:VTIMEZONE
TZID:Europe/Berlin
X-LIC-LOCATION:Europe/Berlin
BEGIN:STANDARD
DTSTART:20241027T020000
TZOFFSETFROM:+0200
TZOFFSETTO:+0100
TZNAME:CET
END:STANDARD
END:VTIMEZONE
END:VCALENDAR