BEGIN:VCALENDAR
VERSION:2.0
PRODID:-//wp-events-plugin.com//7.2.3.1//EN
TZID:Europe/Berlin
X-WR-TIMEZONE:Europe/Berlin
BEGIN:VEVENT
UID:6691@rauszeit-termine.org
DTSTART:20200314T180000Z
DTEND:20200314T191500Z
DTSTAMP:20200204T172021Z
URL:https://rauszeit-termine.org/events/pan-catwalk-2/
SUMMARY:PAN~//Catwalk
DESCRIPTION:⇄ GASTSPIEL der ZWERMERS Performance Gesellschaft\, Niederlan
 de\n\nDeutschlandpremiere\n\nVon der abgetragenen Jeansjacke bis zum extra
 vaganten Glitzerkleid – unsere Kleidung ist Ausdruck davon\, wer wir sin
 d\, sein wollen und manchmal sein müssen. Mit zwei Performer*innen\, eine
 m Geiger und einer endlosen Reihe von Outfits feiern die ZWERMERS den farb
 enfrohen und vielseitigen Menschen. Was sagt diese »zweite Haut« über u
 ns aus? Tragen Menschen Kleidung oder werden sie von Kleidung getragen? Ta
 ucht ein in einen ständigen Strom von Kleidungswechseln\, der von einem E
 in-Mann-Orchester mit Violine und Loopstation unterstützt wird\, inspirie
 rt von Komponisten wie Hauschka und Philip Glass.\n\n»Pan~//Catwalk läss
 t Sie darüber nachdenken\, wie Kleidung Identität ausdrückt und beweist
 \, dass An- und Ausziehen ausreichen kann\, um faszinierendes Theater zu m
 achen.«\n– Oerol Tageszeitung 2019\n\n»Die Aufführung hat die Struktu
 r eines sich wiederholenden Musikstücks. Sie schwillt an\, entspannt sich
  und wiederholt sich. Dieselbe Struktur besteht in den Kleidungsänderunge
 n.«\n– Brabants Zeitung 2019\n\nInfos + Karten theater-an-der-glocksee.
 de\n\n
CATEGORIES:Performance,Theater
LOCATION:THEATER AN DER GLOCKSEE\, Glockseestr. 35\, Hinterhof\, Hannover\,
  Niedersachsen\, 30169\, Deutschland
X-APPLE-STRUCTURED-LOCATION;VALUE=URI;X-ADDRESS=Glockseestr. 35\, Hinterhof
 \, Hannover\, Niedersachsen\, 30169\, Deutschland;X-APPLE-RADIUS=100;X-TIT
 LE=THEATER AN DER GLOCKSEE:geo:0,0
END:VEVENT
END:VCALENDAR