BEGIN:VCALENDAR
VERSION:2.0
PRODID:-//wp-events-plugin.com//7.2.3.1//EN
TZID:Europe/Berlin
X-WR-TIMEZONE:Europe/Berlin
BEGIN:VEVENT
UID:6995@rauszeit-termine.org
DTSTART:20201209T150000Z
DTEND:20201209T183000Z
DTSTAMP:20201104T085502Z
URL:https://rauszeit-termine.org/events/out-am-arbeitsplatz-strategien-geg
 en-mobbing/
SUMMARY:Out am Arbeitsplatz? – Strategien gegen Mobbing
DESCRIPTION:Jede* Dritte lesbische\, bisexuelle\, queere Frau* und fast jed
 e zweite Trans*-Frau erlebt Diskriminierung am Arbeitsplatz aufgrund ihrer
  sexuellen Orientierung - zu diesem Ergebnis kommt eine aktuelle Studie de
 r Uni Bielefeld. Ein Drittel aller Frauen* outet sich deshalb erst lieber 
 gar nicht am Arbeitsplatz – was ebenfalls belastend und unbefriedigend s
 ein kann.\n\nIm Workshop erarbeiten wir deswegen gemeinsam Strategien\, wi
 e bei Diskriminierung am Arbeitsplatz reagiert werden bzw. wie Mobbing vor
 gebeugt werden kann. Dabei ist Raum für Austausch\, Unterstützung und Em
 powerment\, sowie für Informationsaustausch\, Ausprobieren und Handeln.\n
 \n 	Referent*innen: Anne Liebeck (Projektleitung) und Sabine Grimm (Bildun
 gsreferentin) von „Queere Bildung für Jung und Alt – Respekt beginnt 
 im Kopf!\n 	Anmeldung unter: kontakt [at] mosaikgesundheit [dot] de\n 	Ma
 x. 15 Teilnehmende\n 	17:00 - 20:30 Uhr\n 	Eintritt frei\, gefördert aus 
 Mitteln des Landes Niedersachsen.\n 	Eine Veranstaltung von MOSAIK Gesundh
 eit\n
CATEGORIES:FLT*I*Q* Only,Workshop
END:VEVENT
END:VCALENDAR