BEGIN:VCALENDAR
VERSION:2.0
PRODID:-//wp-events-plugin.com//7.2.3.1//EN
TZID:Europe/Berlin
X-WR-TIMEZONE:Europe/Berlin
BEGIN:VEVENT
UID:6997@rauszeit-termine.org
DTSTART;VALUE=DATE:20201120
DTEND;VALUE=DATE:20201123
DTSTAMP:20201130T120239Z
URL:https://rauszeit-termine.org/events/online-aktionstage-lufthansa-absch
 iebefrei/
SUMMARY:Online Aktionstage: Lufthansa #Abschiebefrei
DESCRIPTION:Online-Aktionstage: Lufthansa #Abschiebefrei\n\n-&gt\; Freitag+
 Samstag+Sonntag (20-22. November)\n\nIn wenigen Tagen beginnen die Online-
 Aktionstage Lufthansa #Abschiebefrei! Lufthansa ist Deutschlands größte 
 Abschiebeprofiteurin\, und bis sie ihre Kollaboration mit strukturellem Ra
 ssismus einstellt\, werden wir sie damit konfrontieren!\n\nIn der letzten 
 Woche haben Menschen in ganz Deutschland Adbusting-Plakate der Kampagne #A
 bschiebefrei aufgehängt und Fotos oder kurze Videos davon gemacht. Währe
 nd der Online-Aktionstage werden wir diese Bilder und Videos massenhaft au
 f Twitter\, Instagram und Facebook veröffentlichen. Die Hashtags lauten: 
 #Abschiebefrei #SayNoToDeportations #LockdownLufthansa Und vergesst nicht\
 , @Lufthansa_DE zu taggen!\n\nHabt ihr noch keine Plakate aufgehängt?\n\n
 Schritt 1: Plakate drucken -&gt\; POSTER1 POSTER2 POSTER3 (einfache selbst
 gedruckte A4-Plakate sind ok)\nSchritt 2: Plakate aufhängen &amp\; ein Fo
 to/Video aufnehmen\nSchritt 3: Stellt während der Online-Aktionstage (Fre
 itag+Samstag+Sonntag) Bilder/Videos online -&gt\; Hashtag: #Abschiebefrei\
 n\nFühlt ihr euch kreativ? Nehmt Videos oder Bilder von Transpis\, Plakat
 en oder Kreidesprüchen auf den Straßen auf. Natürlich sind Orte wie Flu
 ghäfen\, Lufthansa-Büros oder Reisebüros besonders cool!\nFolgt an den 
 Aktionstagen der No Border Assembly auf -&gt\; Twitter - Instagram - Faceb
 ook\n\nWir sehen uns am Freitag online!\n\nNo Border Assembly\n-&gt\; unse
 re Website
CATEGORIES:Aktion,Demo
END:VEVENT
END:VCALENDAR