BEGIN:VCALENDAR
VERSION:2.0
PRODID:-//wp-events-plugin.com//7.2.3.1//EN
TZID:Europe/Berlin
X-WR-TIMEZONE:Europe/Berlin
BEGIN:VEVENT
UID:7026@rauszeit-termine.org
DTSTART:20210114T140000Z
DTEND:20210114T153000Z
DTSTAMP:20210113T115350Z
URL:https://rauszeit-termine.org/events/obdach-und-wohnungslosigkeit-und-d
 ie-extreme-rechte/
SUMMARY:Obdach- und Wohnungslosigkeit und die (extreme) Rechte
DESCRIPTION:Online-Vortrag und Gespräch\nEine Online-Veranstaltung der Koo
 rdinierungsstelle der Selbstvertretung wohnungsloser Menschen mit Lucius T
 eidelbaum: Die Veranstaltung ist kostenlos. Wortbeiträge wohnungsloser un
 d ehemals wohnungsloser Menschen haben Vorrang.\n\nhttp://www.wohnungslose
 ntreffen.de/inhalte-blog/256-2021-01-14-obdachlosenhass.html\n\nDonnerstag
 \, 14.01.2021\, 16:00 - 17:30 Uhr\nZoom-Meeting beitreten: https://us02web
 .zoom.us/j/81920877661\nMeeting-ID: 819 2087 7661
CATEGORIES:Online,Vortrag
LOCATION:https://us02web.zoom.us/j/81920877661
END:VEVENT
END:VCALENDAR