BEGIN:VCALENDAR
VERSION:2.0
PRODID:-//wp-events-plugin.com//7.2.3.1//EN
TZID:Europe/Berlin
X-WR-TIMEZONE:Europe/Berlin
BEGIN:VEVENT
UID:6395@rauszeit-termine.org
DTSTART:20201013T170000Z
DTEND:20201014T190000Z
DTSTAMP:20200714T120356Z
URL:https://rauszeit-termine.org/events/nordstadt-solidarisch-offenes-miet
 er_innen-treffen-2020-10-13/
SUMMARY:Nordstadt Solidarisch - Offenes Mieter_innen-Treffen - geänderter 
 Ort !
DESCRIPTION:Nordstadt solidarisch
CATEGORIES:Treffen
LOCATION:UJZ Korn\, Kornstraße 28-30\, Hannover\, Niedersachsen\, 30167\, 
 Hannover\, Deutschland
X-APPLE-STRUCTURED-LOCATION;VALUE=URI;X-ADDRESS=Kornstraße 28-30\, Hannove
 r\, Niedersachsen\, 30167\, Hannover\, Deutschland;X-APPLE-RADIUS=100;X-TI
 TLE=UJZ Korn:geo:0,0
END:VEVENT
END:VCALENDAR