BEGIN:VCALENDAR
VERSION:2.0
PRODID:-//wp-events-plugin.com//7.2.3.1//EN
TZID:Europe/Berlin
X-WR-TIMEZONE:Europe/Berlin
BEGIN:VEVENT
UID:6389@rauszeit-termine.org
DTSTART:20200414T170000Z
DTEND:20200415T190000Z
DTSTAMP:20200412T173043Z
URL:https://rauszeit-termine.org/events/nordstadt-solidarisch-offenes-miet
 er_innen-treffen-2020-04-14/
SUMMARY:Nordstadt Solidarisch - Offenes Mieter_innen-Treffen (abgesagt)
DESCRIPTION:Nordstadt solidarisch
CATEGORIES:Treffen
LOCATION:Cafe Kopi\, Rehbockstr. 2 \,  Hannover\, Niedersachsen\, 30167\, D
 eutschland
X-APPLE-STRUCTURED-LOCATION;VALUE=URI;X-ADDRESS=Rehbockstr. 2 \,  Hannover\
 , Niedersachsen\, 30167\, Deutschland;X-APPLE-RADIUS=100;X-TITLE=Cafe Kopi
 :geo:0,0
END:VEVENT
END:VCALENDAR