BEGIN:VCALENDAR
VERSION:2.0
PRODID:-//wp-events-plugin.com//7.2.3.1//EN
TZID:Europe/Berlin
X-WR-TIMEZONE:Europe/Berlin
BEGIN:VEVENT
UID:7137@rauszeit-termine.org
DTSTART;TZID=Europe/Berlin:20210320T180000
DTEND;TZID=Europe/Berlin:20210320T180000
DTSTAMP:20210228T164330Z
URL:https://rauszeit-termine.org/events/newroz-feuer-am-muehlenberger-mark
 t/
SUMMARY:Newroz-Feuer am Mühlenberger Markt
DESCRIPTION:\n\nAm 20./21. März ist Newroz\, ein Fest mit dem die Menschen
  in vielen Teilen des Mittleren Ostens bis hin zum Balkan das neue Jahr be
 grüßen. Mit einem Feuer wird der Frühling willkommen geheißen und der 
 Winter verabschiedet.\nLeider wird das Feiern des Newroz-Fests besonders i
 m Iran und in Teilen Kurdistans immer wieder ver- oder behindert. Deshalb 
 freuen wir uns darauf\, gemeinsam mit vielen Freundinnen und Freunden zu f
 eiern. Wir sind ein Bündnis verschiedener fortschrittlicher Gruppen und P
 arteien aus allen Teilen Kurdistans\, dem Iran\, Afghanistan\, der Türkei
  und Deutschland\, die seit fünf Jahren gemeinsam Newroz in Hannover feie
 rn\, um ein Zeichen des Zusammenhalts und der Solidarität zu setzen. Dies
 es Jahr gehen wir auch in den Mühlenberg\, um Menschen zu erreichen\, die
  bisher nicht an unseren Feiern teilnehmen konnten.\n\nAm Samstag den 20. 
 März werden wir um 18.00 Uhr am Mühlenberger Markt das traditionelle New
 roz-Feuer entzünden und gemeinsam den Frühlingsbeginn feiern.\n\n---\n\n
 Newroza Azadiyê 2021 - Agirê Newroz\n\nDi 20./21. adarê de şahiya Newr
 ozê ye. Mirov ji gelek beşên rojhilata navîn ta Balkanê bi Newrozê d
 estpêka biharê silav dikin. Bi agir bixêrhatina biharê dikin û zivist
 anê oxirdikin.\nMixabin şahiya Newrozê nemaze li Îranê û gelek beş
 ên Kurdistanê nahêlê çêkirin anjî tê astengkirin. Lewma em gelekî
  kêfxweşîn ku ne weke her car cuda û bela\, bi hev re û gel hevalan e
 m pîroz bikin.\nEm tifaqeke ji\, kom û parti yên cuda pêşketî ji her
  aliyên Kurdistan\, ji Îran\, Tirkiyê û ji Elman in. Em li hev kom bû
 ne da em weke nîşana hevgirtinê Newrozeke bi hev re pîrozbikin.\nDi Ş
 emiya 20. adarê saet ji 18. Em dixwazin li qada Mühlenberger Markt Newro
 zê bi hev re pîrozbikin û biharê silavbikin.
CATEGORIES:Kundgebung
LOCATION:Mühlenberger Markt\, Mühlenberger Markt\, Hannover\, Niedersachs
 en\, 30457\, Deutschland
X-APPLE-STRUCTURED-LOCATION;VALUE=URI;X-ADDRESS=Mühlenberger Markt\, Hanno
 ver\, Niedersachsen\, 30457\, Deutschland;X-APPLE-RADIUS=100;X-TITLE=Mühl
 enberger Markt:geo:0,0
END:VEVENT
BEGIN:VTIMEZONE
TZID:Europe/Berlin
X-LIC-LOCATION:Europe/Berlin
BEGIN:STANDARD
DTSTART:20201025T020000
TZOFFSETFROM:+0200
TZOFFSETTO:+0100
TZNAME:CET
END:STANDARD
END:VTIMEZONE
END:VCALENDAR