BEGIN:VCALENDAR
VERSION:2.0
PRODID:-//wp-events-plugin.com//7.2.3.1//EN
TZID:Europe/Berlin
X-WR-TIMEZONE:Europe/Berlin
BEGIN:VEVENT
UID:7138@rauszeit-termine.org
DTSTART;TZID=Europe/Berlin:20210321T140000
DTEND;TZID=Europe/Berlin:20210321T140000
DTSTAMP:20210228T164905Z
URL:https://rauszeit-termine.org/events/newroz-familienfest/
SUMMARY:Newroz-Familienfest
DESCRIPTION:\n\nAm 20./21. März ist Newroz\, ein Fest mit dem die Menschen
  in vielen Teilen des Mittleren Ostens bis hin zum Balkan das neue Jahr be
 grüßen. Mit einem Feuer wird der Frühling willkommen geheißen und der 
 Winter verabschiedet.\nLeider wird das Feiern des Newroz-Fests besonders i
 m Iran und in Teilen Kurdistans immer wieder ver- oder behindert. Deshalb 
 freuen wir uns darauf\, gemeinsam mit vielen Freundinnen und Freunden zu f
 eiern. Wir sind ein Bündnis verschiedener fortschrittlicher Gruppen und P
 arteien aus allen Teilen Kurdistans\, dem Iran\, Afghanistan\, der Türkei
  und Deutschland\, die seit fünf Jahren gemeinsam Newroz in Hannover feie
 rn\, um ein Zeichen des Zusammenhalts und der Solidarität zu setzen. Dies
 es Jahr gehen wir auch in den Mühlenberg\, um Menschen zu erreichen\, die
  bisher nicht an unseren Feiern teilnehmen konnten.\n\nAm Sonntag den 21. 
 März wollen wir ab 14.00 Uhr auf dem Halim-Dener-Platz ein gemeinsames Fa
 milienfest feiern\, denn Newroz ist ein Fest der gesamten Gesellschaft und
  ein Symbol der Solidarität. \n\n---\n\nNewroza Azadiyê – gel hev li H
 annover\n\nDi 20./21. adarê de şahiya Newrozê ye. Mirov ji gelek beşê
 n rojhilata navîn ta Balkanê bi Newrozê destpêka biharê silav dikin. 
 Bi agir bixêrhatina biharê dikin û zivistanê oxirdikin.\nMixabin şahi
 ya Newrozê nemaze li Îranê û gelek beşên Kurdistanê nahêlê çêki
 rin anjî tê astengkirin. Lewma em gelekî kêfxweşîn ku ne weke her ca
 r cuda û bela\, bi hev re û gel hevalan em pîroz bikin.\n\nEm tifaqeke 
 ji\, kom û parti yên cuda pêşketî ji her aliyên Kurdistan\, ji Îran
 \, Tirkiyê û ji Elman in. Em li hev kom bûne da em weke nîşana hevgir
 tinê Newrozeke bi hev re pîrozbikin.\n\nHerweha emê di Yekşema 21. ada
 rê de saet ji 14 bi hev re li qada Halim Denerê bi muzîk û gelek taman
  pîrozbikin. Wê ji bo piçûka ta mezina her tişt hebe.\n
CATEGORIES:Festival
LOCATION:Halim-Dener-Platz\, Pfarrlandplatz\, Hannover\, Niedersachsen\, 30
 451\, Deutschland
X-APPLE-STRUCTURED-LOCATION;VALUE=URI;X-ADDRESS=Pfarrlandplatz\, Hannover\,
  Niedersachsen\, 30451\, Deutschland;X-APPLE-RADIUS=100;X-TITLE=Halim-Dene
 r-Platz:geo:0,0
END:VEVENT
BEGIN:VTIMEZONE
TZID:Europe/Berlin
X-LIC-LOCATION:Europe/Berlin
BEGIN:STANDARD
DTSTART:20201025T020000
TZOFFSETFROM:+0200
TZOFFSETTO:+0100
TZNAME:CET
END:STANDARD
END:VTIMEZONE
END:VCALENDAR