BEGIN:VCALENDAR
VERSION:2.0
PRODID:-//wp-events-plugin.com//7.2.3.1//EN
TZID:Europe/Berlin
X-WR-TIMEZONE:Europe/Berlin
BEGIN:VEVENT
UID:12460@rauszeit-termine.org
DTSTART;TZID=Europe/Berlin:20240713T130000
DTEND;TZID=Europe/Berlin:20240713T170000
DTSTAMP:20240701T195755Z
URL:https://rauszeit-termine.org/events/naeh-workshop-fuer-binder-2-0/
SUMMARY:Näh-Workshop für Binder 2.0
DESCRIPTION:Näh-Workshops für Binder\nPräsentiert vom open closet Projek
 t\nin Nord-Linden\n\nUnterwäsche kaufen ist anstrengend und du findest ke
 ine für deinen Körper\, Geschlechtsausdruck und Geschmack passenden Sach
 en?\n\nWir haben eine Lösung\nKomm zu unseren Näh-Workshops!\n\nBeim Wor
 kshop lernst du einen Binder selber zu nähen.\nDie Schnitte (Größen XS-
 9XL) und Materialien bekommst du beim Workshop.\nAußerdem kannst du auch 
 ganz easy den Schnitt an deine Ideen und Bedürfnisse anpassen!\n\nSprache
 n: Deutsch\, Englisch auch möglich\nVorkenntnisse: du solltest zumindest 
 etwas mit einer Haushaltsnähmaschine umgehen können\nMaximal 8 Teilnehme
 r*innen\nDie Teilnahme ist kostenlos\nInfos zur Anmeldung ganz unten\n\nDe
 n Workshop leitet Isi (keine Pronomen).\nDie Sachen die beim Workshop ents
 tehen stammen aus den Ideen\, mit denen Isi das Modelabel “Undrowear” 
 @undrowear gegründet hat\, das Unterwäsche für trans* Personen herstell
 t.\n\nWeitere Infos:\nDer Raum ist in der ersten Etage.\nEs gibt einen Auf
 zug. Mehr Infos bekommst du nach der Anmeldung.\nEs gibt Nähmaschinen vor
  Ort. Du kannst aber auch deine eigene mitbringen.\nBei Fragen melde dich 
 gern. Oder wenn du etwas brauchst.\n\nAnmeldung:\nWir möchten dich besond
 ers einladen\, wenn es für dich schwierig ist Binder zu bekommen.\nZum Be
 ispiel\, weil Binder teuer sind. Oder weil deine Größe oft nicht angebot
 en wird.\nWenn das auf dich nicht zutrifft\, schreib bitte “Binderbinder
 ” in die Mail zur Anmeldung.\nE-Mail: info@open-closet.org\n\nfür trans
 *\, inter*\, nicht-binäre und/oder agender Personen\n\n&nbsp\;\n\nWebsite
 : https://queerpunkt.de/nah-workshops/\nInstagram: @open_closet_hannover
CATEGORIES:FLT*I*Q* Only,Safer Space,Workshop
END:VEVENT
BEGIN:VTIMEZONE
TZID:Europe/Berlin
X-LIC-LOCATION:Europe/Berlin
BEGIN:DAYLIGHT
DTSTART:20240331T030000
TZOFFSETFROM:+0100
TZOFFSETTO:+0200
TZNAME:CEST
END:DAYLIGHT
END:VTIMEZONE
END:VCALENDAR