BEGIN:VCALENDAR
VERSION:2.0
PRODID:-//wp-events-plugin.com//7.2.3.1//EN
TZID:Europe/Berlin
X-WR-TIMEZONE:Europe/Berlin
BEGIN:VEVENT
UID:116948@rauszeit-termine.org
DTSTART;TZID=Europe/Berlin;VALUE=DATE:20201212
DTEND;TZID=Europe/Berlin;VALUE=DATE:20201213
DTSTAMP:20250401T144107Z
URL:https://rauszeit-termine.org/events/myname-9-2020-12-12/
SUMMARY:MyName
DESCRIPTION:NnL CCmN SLURH
CATEGORIES:Aktion
END:VEVENT
BEGIN:VTIMEZONE
TZID:Europe/Berlin
X-LIC-LOCATION:Europe/Berlin
BEGIN:STANDARD
DTSTART:20201025T020000
TZOFFSETFROM:+0200
TZOFFSETTO:+0100
TZNAME:CET
END:STANDARD
END:VTIMEZONE
END:VCALENDAR