BEGIN:VCALENDAR
VERSION:2.0
PRODID:-//wp-events-plugin.com//7.2.3.1//EN
TZID:Europe/Berlin
X-WR-TIMEZONE:Europe/Berlin
BEGIN:VEVENT
UID:116859@rauszeit-termine.org
DTSTART;TZID=Europe/Berlin;VALUE=DATE:20200914
DTEND;TZID=Europe/Berlin;VALUE=DATE:20200915
DTSTAMP:20250401T144107Z
URL:https://rauszeit-termine.org/events/myname-9-2020-09-14/
SUMMARY:MyName
DESCRIPTION:NnL CCmN SLURH
CATEGORIES:Aktion
END:VEVENT
BEGIN:VTIMEZONE
TZID:Europe/Berlin
X-LIC-LOCATION:Europe/Berlin
BEGIN:DAYLIGHT
DTSTART:20200329T030000
TZOFFSETFROM:+0100
TZOFFSETTO:+0200
TZNAME:CEST
END:DAYLIGHT
END:VTIMEZONE
END:VCALENDAR