BEGIN:VCALENDAR
VERSION:2.0
PRODID:-//wp-events-plugin.com//7.2.3.1//EN
TZID:Europe/Berlin
X-WR-TIMEZONE:Europe/Berlin
BEGIN:VEVENT
UID:14176@rauszeit-termine.org
DTSTART;TZID=Europe/Berlin:20250119T190000
DTEND;TZID=Europe/Berlin:20250119T190000
DTSTAMP:20250116T211451Z
URL:https://rauszeit-termine.org/events/mobivortrag-5-gruende-das-gedenken
 -in-dresden-abzuschaffen/
SUMMARY:Mobivortrag: 5 Gründe das Gedenken in Dresden abzuschaffen!
DESCRIPTION:Achtung geänderter Ort: Der Mobivortrag findet in der Sturmglo
 cke statt!\n\n\nAm 13.2.25 jährt sich der Luftangriff auf Dresden im 2. W
 eltkrieg zum 80. Mal. Seit den 90ern führt dieses Datum in Dresden zum ze
 itweise größten Neonaziaufmarsch Europas. Fast genauso lang müssen wir 
 alle zum Gegenprotest.\n\nViele Denken\, die Nazis würden mit ihrer selbs
 tstillisierten Opfererzählung das Gedenken in Dresden instrumentalisieren
 . Aber warum rutscht der Naziaufmarsch dann nicht\, wie so viele andere in
  die Bedeutungslosigkeit? Warum gibt es ihn immer noch?\n\nDie Antwort lie
 gt auch in der Opfererzählung der Bombardierung die auch jedes Jahr öffe
 ntlich und kollektiv von der Stadt erinnert wird.\n\n5 Gründe warum das G
 edenken in Dresden abgeschafft gehört erfahrt ihr im Vortrag!\n\nMit eine
 m knackigen Abriss unserer Gedenkritik und einer großen Portion Antifasch
 ismus können wir euch hoffentlich einige Gründe geben\, im Februar nach 
 Dresden zu fahren:\n\nAktionswoche vom 8.2.-16.2. !\n\n❌️13.2. Gedenke
 n abschaffen  am 15.2. Nazitrauermarsch blockieren\n\nWir freuen uns auf e
 uch 
ATTACH;FMTTYPE=image/jpeg:https://rauszeit-termine.org/wp-content/uploads/
 2025/01/dresden-mobi.jpg
CATEGORIES:Infoveranstaltung
LOCATION:Sturmglocke\, Klaus-Müller-Kilian-Weg 1\, Hannover\, 30167\, Deut
 schland
X-APPLE-STRUCTURED-LOCATION;VALUE=URI;X-ADDRESS=Klaus-Müller-Kilian-Weg 1\
 , Hannover\, 30167\, Deutschland;X-APPLE-RADIUS=100;X-TITLE=Sturmglocke:ge
 o:0,0
END:VEVENT
BEGIN:VTIMEZONE
TZID:Europe/Berlin
X-LIC-LOCATION:Europe/Berlin
BEGIN:STANDARD
DTSTART:20241027T020000
TZOFFSETFROM:+0200
TZOFFSETTO:+0100
TZNAME:CET
END:STANDARD
END:VTIMEZONE
END:VCALENDAR