BEGIN:VCALENDAR
VERSION:2.0
PRODID:-//wp-events-plugin.com//7.2.3.1//EN
TZID:Europe/Berlin
X-WR-TIMEZONE:Europe/Berlin
BEGIN:VEVENT
UID:6827@rauszeit-termine.org
DTSTART:20200723T160000Z
DTEND:20200723T180000Z
DTSTAMP:20200701T072317Z
URL:https://rauszeit-termine.org/events/mit-mehr-kraft-und-zuversicht-durc
 h-schwierige-zeiten-navigieren/
SUMMARY:Mit mehr Kraft und Zuversicht durch schwierige Zeiten navigieren
DESCRIPTION:Vielleicht kennst du den Wunsch dich in schwierigen Zeiten kraf
 tvoller und lebendiger zu fühlen\, leichter und entspannter oder zuversic
 htlicher?\n\nWir treffen uns in diesem Workshop online und probieren gemei
 nsam Übungen aus\, die dabei hilfreich sein können: Bewegungsideen für 
 begrenzten Raum\, Mini-Selbstmassage\, eine Prise Leichtigkeit und Entspan
 nung. Und das alles gemeinsam mit anderen Queers aus Niedersachsen. Alle 
 Übungen sind queer-sensibel konzipiert und du entscheidest wie du die Üb
 ungen für dich gestaltest. Vorerfahrungen oder Sportlichkeit sind nicht n
 otwendig\, Neugier reicht völlig aus.\n\n 	Referent*in: K* Stern (www.pr
 axis-kstern.de)\n 	Anmeldung: tin [at] q-nn [dot] de (Nach der Anmeldung
  erhälst du die Zugangsdaten und eine kurze Anleitung zur verwendeten Tec
 hnik)\n 	Der Workshop findet in deutscher Lautsprache statt und ist offen 
 für alle FLINTA`s\n 	Teilnahme kostenfrei\, gefördert aus Mitteln des La
 ndes Niedersachsen.\n 	Eine Veranstaltung von TiN in Kooperation mit MOSAI
 K Gesundheit\n
CATEGORIES:FLT*I*Q* Only,Workshop
END:VEVENT
END:VCALENDAR