BEGIN:VCALENDAR
VERSION:2.0
PRODID:-//wp-events-plugin.com//7.2.3.1//EN
TZID:Europe/Berlin
X-WR-TIMEZONE:Europe/Berlin
BEGIN:VEVENT
UID:14223@rauszeit-termine.org
DTSTART;TZID=Europe/Berlin:20250322T200000
DTEND;TZID=Europe/Berlin:20250322T210000
DTSTAMP:20250118T132321Z
URL:https://rauszeit-termine.org/events/making-of-a-man/
SUMMARY:MAKING OF A MAN
DESCRIPTION:GASTSPIEL von Quindell Orton &gt\; München/Athen\n\nEin*e Tän
 zer*in\, eine Projektionsfläche\, eine Live-Kamera\, ein paar Silikon-Bau
 chmuskeln und die Frage: Wie »macht« ein Körper Männlichkeit und wie f
 ormen unsere Vorstellungen von Männlichkeit die Welt\, in der wir leben?\
 n\nMit einer Mischung aus Popkultur\, Politik und persönlichen Interviews
  ist MAKING OF A MAN eine Erkundung von Maskulinität\, männlicher Helden
 erzählung und den verletzlichen Seiten der Männlichkeit.\n\nEin Blick au
 f die undichten Gefäße\, die wir für männliche Identität bauen\, und 
 auf unsere Konstruktionen davon\, was Männlichkeit bedeutet. Wer »darf m
 ännlich sein« und warum?\n\nWie können wir jenseits der starr gemeißel
 ten Codes der Maskulinität andere Wege des Zusammenseins in der Welt find
 en? Und was für Potentiale liegen darin?\n\nMit viel Humor\, vollem Medie
 n- und Körpereinsatz und hochaktueller Analyse bewegt sich der Abend verf
 ührerisch fluide zwischen Performance\, TED-Talk und Tanz.\n\nInfos + Tic
 kets → theaterglocksee.de\n\n
CATEGORIES:LGBT*I*Q,Performance,Theater,Vortrag
LOCATION:THEATER AN DER GLOCKSEE\, Glockseestr. 35\, Hinterhof\, Hannover\,
  Niedersachsen\, 30169\, Deutschland
X-APPLE-STRUCTURED-LOCATION;VALUE=URI;X-ADDRESS=Glockseestr. 35\, Hinterhof
 \, Hannover\, Niedersachsen\, 30169\, Deutschland;X-APPLE-RADIUS=100;X-TIT
 LE=THEATER AN DER GLOCKSEE:geo:0,0
END:VEVENT
BEGIN:VTIMEZONE
TZID:Europe/Berlin
X-LIC-LOCATION:Europe/Berlin
BEGIN:STANDARD
DTSTART:20241027T020000
TZOFFSETFROM:+0200
TZOFFSETTO:+0100
TZNAME:CET
END:STANDARD
END:VTIMEZONE
END:VCALENDAR