BEGIN:VCALENDAR
VERSION:2.0
PRODID:-//wp-events-plugin.com//7.2.3.1//EN
TZID:Europe/Berlin
X-WR-TIMEZONE:Europe/Berlin
BEGIN:VEVENT
UID:6747@rauszeit-termine.org
DTSTART:20200423T170000Z
DTEND:20200423T193000Z
DTSTAMP:20200312T132107Z
URL:https://rauszeit-termine.org/events/maennerrechte-rechte-maenner-ulla-
 wittenzellner/
SUMMARY:Männerrechte – rechte Männer? / Ulla Wittenzellner
DESCRIPTION:„Männer werden durch Feminismus benachteiligt!“ ist eine G
 rundhaltung vieler Männerrechtler. Männer seien die eigentlichen Verlier
 er in unserer Gesellschaft. Kürzere Lebenserwartung\, Benachteiligung bei
  Sorgerechtsfragen und Jungen als Bildungsverlierer werden für diese Thes
 e angeführt. In Männer- und Väterrechtsgruppen vor allem aber in Intern
 etforen schließen sich Männer zusammen\, um diesem vermeintlichen Unrech
 t entgegen zu treten. Wer sind diese Akteure? Was haben Männerrechtler ge
 meinsam mit den Männern\, die im Internet Hasstiraden auf Frauen loslasse
 n oder mit dem Terroristen des Anschlags von Halle? Was sind Incels\, Red-
 Pill-Foren und Pick-up-Artists?\n\nIm Vortrag werden Grundzüge verschiede
 ner Ideologien\, Unterschiede und Gemeinsamkeiten und wichtige Akteur*inne
 n beleuchtet.\n\n"Ulla Wittenzellner arbeitet als wissenschaftliche Mitarb
 eiterin bei Dissens - Institut für Bildung und Forschung und freiberuflic
 h zu Themen um Geschlecht. Schwerpunkte dabei sind: Männlichkeiten\, sexu
 elle\, geschlechtliche und amouröse Vielfalt\, Antifeminismus\, Geschlech
 t und Neonazismus\, Geschlecht und digitale Räume."\n\nhttps://www.facebo
 ok.com/events/1086160365092218/\n\n&nbsp\;\n\nDie Veranstaltung ist Teil d
 er “Feminismus geht jede*n etwas an!” Reihe vom AStA der Leibniz Uni. 
 Mehr Infos zu der Reihe findet ihr auf http://www.asta-hannover.de/ oder d
 er AStA Facebook-Seite (https://www.facebook.com/astahannover/)\n\n&nbsp\;
CATEGORIES:Vortrag
LOCATION:Elchkeller\, Schneiderberg 50\, Hannover\, Deutschland
X-APPLE-STRUCTURED-LOCATION;VALUE=URI;X-ADDRESS=Schneiderberg 50\, Hannover
 \, Deutschland;X-APPLE-RADIUS=100;X-TITLE=Elchkeller:geo:0,0
END:VEVENT
END:VCALENDAR