BEGIN:VCALENDAR
VERSION:2.0
PRODID:-//wp-events-plugin.com//7.2.3.1//EN
TZID:Europe/Berlin
X-WR-TIMEZONE:Europe/Berlin
BEGIN:VEVENT
UID:150428@rauszeit-termine.org
DTSTART;TZID=Europe/Berlin:20250927T190000
DTEND;TZID=Europe/Berlin:20250928T010000
DTSTAMP:20250922T144943Z
URL:https://rauszeit-termine.org/events/loving-backwards-kamino/
SUMMARY:Loving Backwards / Kamino
DESCRIPTION:Loving Backwards sind mit ihrem Debut Album „Rubbish Twilight
 s“ auf Tour und legen auch in Hannover einen Stopp ein. Sie spielen Psyc
 hedelic Rock\, Alternative und Indie-Rock.\n\nKamino aus Hannover spielen 
 eine Mischung aus Neo-Soul\, Funk und Rock.\n\n—————————
 ———————————\n\nLoving Backwards are on tour with the
 ir debut album „Rubbish Twilights“ and also make a stop in Hanover. Th
 ey play Psychedelic Rock\, Alternative and Indie-Rock.\n\nKamino from Hano
 ver play a mixture of Neo-Soul\, Funk and Rock.
CATEGORIES:Konzert
LOCATION:LKA\, Fröbelstr. 5\, Hannover\, 30451\, Deutschland
X-APPLE-STRUCTURED-LOCATION;VALUE=URI;X-ADDRESS=Fröbelstr. 5\, Hannover\, 
 30451\, Deutschland;X-APPLE-RADIUS=100;X-TITLE=LKA:geo:0,0
END:VEVENT
BEGIN:VTIMEZONE
TZID:Europe/Berlin
X-LIC-LOCATION:Europe/Berlin
BEGIN:DAYLIGHT
DTSTART:20250330T030000
TZOFFSETFROM:+0100
TZOFFSETTO:+0200
TZNAME:CEST
END:DAYLIGHT
END:VTIMEZONE
END:VCALENDAR