BEGIN:VCALENDAR
VERSION:2.0
PRODID:-//wp-events-plugin.com//7.2.3.1//EN
TZID:Europe/Berlin
X-WR-TIMEZONE:Europe/Berlin
BEGIN:VEVENT
UID:13847@rauszeit-termine.org
DTSTART;TZID=Europe/Berlin:20241231T000000
DTEND;TZID=Europe/Berlin:20241231T000000
DTSTAMP:20241205T211354Z
URL:https://rauszeit-termine.org/events/love-a-dub-2/
SUMMARY:Love A Dub
DESCRIPTION:We are ready and prepared for another session. This time the ol
 d Liberation Skank collective will join forces again for your musical plea
 sure. All powered by yours truly Sandokan HiFi who take a long trip up nor
 th straight from Zagreb/ Croatia to their hometown Hanover. Come along and
  join us for some heavy dubbing & skanking all night long.
ATTACH;FMTTYPE=image/jpeg:https://rauszeit-termine.org/wp-content/uploads/
 2024/12/Love-A-Dub.jpg
CATEGORIES:Party
LOCATION:UJZ Korn\, Kornstraße 28-30\, Hannover\, Niedersachsen\, 30167\, 
 Hannover\, Deutschland
X-APPLE-STRUCTURED-LOCATION;VALUE=URI;X-ADDRESS=Kornstraße 28-30\, Hannove
 r\, Niedersachsen\, 30167\, Hannover\, Deutschland;X-APPLE-RADIUS=100;X-TI
 TLE=UJZ Korn:geo:0,0
END:VEVENT
BEGIN:VTIMEZONE
TZID:Europe/Berlin
X-LIC-LOCATION:Europe/Berlin
BEGIN:STANDARD
DTSTART:20241027T020000
TZOFFSETFROM:+0200
TZOFFSETTO:+0100
TZNAME:CET
END:STANDARD
END:VTIMEZONE
END:VCALENDAR