BEGIN:VCALENDAR
VERSION:2.0
PRODID:-//wp-events-plugin.com//7.2.3.1//EN
TZID:Europe/Berlin
X-WR-TIMEZONE:Europe/Berlin
BEGIN:VEVENT
UID:6886@rauszeit-termine.org
DTSTART:20201103T170000Z
DTEND:20201103T170000Z
DTSTAMP:20201027T212637Z
URL:https://rauszeit-termine.org/events/loud-loving-feminism-feministische
 -outdoor-kneipe/
SUMMARY:Loud loving feminism - feministische Outdoor-Kneipe
DESCRIPTION:***Veranstaltung im Rahmen der Welcome to the Jungle Veranstalt
 ungsreihe***\n\nFeminismus ist laut\, Feminismus ist schön. Feminismus is
 t notwendig und für alle da! Also kommt vorbei zu einem lauten und bunten
  feministischen Outdoor-Kneipenabend in der Nordstadt. Ob ihr neu in Hanno
 ver seid oder hier schon länger wohnt: heute Abend habt ihr die Möglichk
 eit euch und uns besser kennenzulernen\, dabei Glühwein und Co. zu schlü
 rfen und Fragen zu stellen. Außerdem wird es ein Kneipen-Quiz geben.
CATEGORIES:Kneipe
LOCATION:UJZ Korn\, Kornstraße 28-30\, Hannover\, Niedersachsen\, 30167\, 
 Hannover\, Deutschland
X-APPLE-STRUCTURED-LOCATION;VALUE=URI;X-ADDRESS=Kornstraße 28-30\, Hannove
 r\, Niedersachsen\, 30167\, Hannover\, Deutschland;X-APPLE-RADIUS=100;X-TI
 TLE=UJZ Korn:geo:0,0
END:VEVENT
END:VCALENDAR