BEGIN:VCALENDAR
VERSION:2.0
PRODID:-//wp-events-plugin.com//7.2.3.1//EN
TZID:Europe/Berlin
X-WR-TIMEZONE:Europe/Berlin
BEGIN:VEVENT
UID:14590@rauszeit-termine.org
DTSTART;TZID=Europe/Berlin:20250307T200000
DTEND;TZID=Europe/Berlin:20250307T200000
DTSTAMP:20250223T214210Z
URL:https://rauszeit-termine.org/events/lokalrunde-die-hip-hop-kneipe-6/
SUMMARY:Lokalrunde - die Hip Hop Kneipe #6
DESCRIPTION:Hip Hop Kneipenabend mit Mini-Konzerten\, Musik vom Plattentell
 er\, Beatsets und Freestyle Rap.\n\nLive Rap: LYZ\, Julez\, Ibuprofet\n\nD
 Js: Frenetikk\, DJ Styler\n\nEintritt frei \n
CATEGORIES:Kneipe,Konzert
LOCATION:UJZ Korn\, Kornstraße 28-30\, Hannover\, Niedersachsen\, 30167\, 
 Hannover\, Deutschland
X-APPLE-STRUCTURED-LOCATION;VALUE=URI;X-ADDRESS=Kornstraße 28-30\, Hannove
 r\, Niedersachsen\, 30167\, Hannover\, Deutschland;X-APPLE-RADIUS=100;X-TI
 TLE=UJZ Korn:geo:0,0
END:VEVENT
BEGIN:VTIMEZONE
TZID:Europe/Berlin
X-LIC-LOCATION:Europe/Berlin
BEGIN:STANDARD
DTSTART:20241027T020000
TZOFFSETFROM:+0200
TZOFFSETTO:+0100
TZNAME:CET
END:STANDARD
END:VTIMEZONE
END:VCALENDAR