BEGIN:VCALENDAR
VERSION:2.0
PRODID:-//wp-events-plugin.com//7.2.3.1//EN
TZID:Europe/Berlin
X-WR-TIMEZONE:Europe/Berlin
BEGIN:VEVENT
UID:150467@rauszeit-termine.org
DTSTART;TZID=Europe/Berlin:20251001T170000
DTEND;TZID=Europe/Berlin:20251001T193000
DTSTAMP:20251001T102706Z
URL:https://rauszeit-termine.org/events/literatur-workshop-fuer-migrantisc
 he-queere-jugendliche/
SUMMARY:Literatur Workshop für migrantische &amp\; queere Jugendliche
DESCRIPTION:Literatur Workshop mit Dorsa &amp\; Damaris\n\nHabt ihr Lust\, 
 Geschichten zu schreiben\, Worte zu teilen oder kreativ zu experimentieren
 ? Am 22. Oktober findet unser Literatur-Art-Workshop mit Dorsa und Damaris
  statt.\n\nIn diesem Workshop tauchen wir gemeinsam in die Welt von Legend
 en\, Mythen und Märchen ein. Ihr könnt schreiben\, Ideen austauschen und
  eure Kreativität in Text und Bild lebendig werden lassen. Egal\, ob ihr 
 schon Erfahrung habt oder zum ersten Mal schreibt – es gibt keinen Druck
 \, keine Bewertung\, nur einen sicheren\, offenen Raum zum Ausprobieren.\n
 \nDer Workshop ist Teil der Vorbereitung für unsere Ausstellung im Kultur
 zentrum Faust\, deren Vernissage am 8. November stattfindet.\n\nKommt einf
 ach\, wie ihr seid\, und bringt eure Neugier mit! Mehr Infos findet ihr un
 ter:\n\nhttps://linktr.ee/tell.your.story\n\nInstagram @tellyourstory.hann
 over.
ATTACH;FMTTYPE=image/jpeg:https://rauszeit-termine.org/wp-content/uploads/
 2025/09/tellyourstory.webp
CATEGORIES:Workshop
LOCATION:Tanzhaus Ahrbergviertel\, Ilse-Ter-Meer-Weg 7 \, hannover \, niede
 rsachsen\, 30449\, hannover\, Deutschland
X-APPLE-STRUCTURED-LOCATION;VALUE=URI;X-ADDRESS=Ilse-Ter-Meer-Weg 7 \, hann
 over \, niedersachsen\, 30449\, hannover\, Deutschland;X-APPLE-RADIUS=100;
 X-TITLE=Tanzhaus Ahrbergviertel:geo:0,0
END:VEVENT
BEGIN:VTIMEZONE
TZID:Europe/Berlin
X-LIC-LOCATION:Europe/Berlin
BEGIN:DAYLIGHT
DTSTART:20250330T030000
TZOFFSETFROM:+0100
TZOFFSETTO:+0200
TZNAME:CEST
END:DAYLIGHT
END:VTIMEZONE
END:VCALENDAR