BEGIN:VCALENDAR
VERSION:2.0
PRODID:-//wp-events-plugin.com//7.2.3.1//EN
TZID:Europe/Berlin
X-WR-TIMEZONE:Europe/Berlin
BEGIN:VEVENT
UID:150522@rauszeit-termine.org
DTSTART;TZID=Europe/Berlin:20251019T190000
DTEND;TZID=Europe/Berlin:20251019T210000
DTSTAMP:20251011T201952Z
URL:https://rauszeit-termine.org/events/libresso-dokuabend/
SUMMARY:Libresso Dokuabend
DESCRIPTION:CN: Rassismus\n\nLibresso Doku Abend\nZweite Teil einer Doku Re
 ihe von Raoul Peck über Rassismus und Kollonialismus.\nDas Libresso lädt
  zum gemeinsamen Doku schauen ein.\nLos geht es am 19. Oktober um 19 Uhr. 
 Die Doku geht so ne knappe Stunde. Danach wollen wir in kleinen Gruppen da
 s gesehene gemeinsam verarbeiten und besprechen. Denn die Doku ist nicht o
 hne\, es gilt also eine klare Contetnt Note für Rassismus und Gewalt. Fü
 r ein awereness Konzept ist aber gesorgt.\n\nWorum geht’s: "Rottet die B
 estien aus!“ ist ein vierteiliger\, filmischer Essay des haitianisch-fra
 nzösischen Regisseurs Raoul Peck. Die knapp vierstündige Doku-Reihe entf
 altet eine kraftvolle\, assoziative Reise durch etwa 600 Jahre globaler Ko
 lonialgeschichte – von der Ausrottung der indigenen Völker Amerikas üb
 er den transatlantischen Sklavenhandel bis hin zum Holocaust\nPeck verbind
 et historische Fakten mit stilistischen Mitteln wie Spielszenen\, Archivbi
 ldern\, animierten Sequenzen und literarischen Zitaten – darunter Joseph
  Conrads „Herz der Finsternis“\, nach dem die Reihe auch benannt ist\n
 Inhaltlich dekonstruiert die Doku gängige Narrationen\, entlarvt rassisti
 sche Ideologien als historische Triebfedern für Kolonialismus und Genozid
  und stellt sie in direkten Zusammenhang mit heutigen Machtverhältnissen 
 und institutionellem Rassismus\nPecks persönliche Perspektive – gepräg
 t durch seine Erfahrungen als Schwarzer\, Migrant und globaler Bürger –
  macht das Werk besonders eindringlich
CATEGORIES:Sonstiges
LOCATION:Libresso Libertär\, Fröbelstraße 5\, Hannover\, 30451\, Deutsch
 land
X-APPLE-STRUCTURED-LOCATION;VALUE=URI;X-ADDRESS=Fröbelstraße 5\, Hannover
 \, 30451\, Deutschland;X-APPLE-RADIUS=100;X-TITLE=Libresso Libertär:geo:0
 ,0
END:VEVENT
BEGIN:VTIMEZONE
TZID:Europe/Berlin
X-LIC-LOCATION:Europe/Berlin
BEGIN:DAYLIGHT
DTSTART:20250330T030000
TZOFFSETFROM:+0100
TZOFFSETTO:+0200
TZNAME:CEST
END:DAYLIGHT
END:VTIMEZONE
END:VCALENDAR